BEGIN:VCALENDAR
VERSION:2.0
PRODID:-//Vänsterpartiet Växjö - ECPv6.15.17.1//NONSGML v1.0//EN
CALSCALE:GREGORIAN
METHOD:PUBLISH
X-WR-CALNAME:Vänsterpartiet Växjö
X-ORIGINAL-URL:https://vaxjo.vansterpartiet.se
X-WR-CALDESC:Händelser för Vänsterpartiet Växjö
REFRESH-INTERVAL;VALUE=DURATION:PT1H
X-Robots-Tag:noindex
X-PUBLISHED-TTL:PT1H
BEGIN:VTIMEZONE
TZID:Europe/Stockholm
BEGIN:DAYLIGHT
TZOFFSETFROM:+0100
TZOFFSETTO:+0200
TZNAME:CEST
DTSTART:20240331T010000
END:DAYLIGHT
BEGIN:STANDARD
TZOFFSETFROM:+0200
TZOFFSETTO:+0100
TZNAME:CET
DTSTART:20241027T010000
END:STANDARD
BEGIN:DAYLIGHT
TZOFFSETFROM:+0100
TZOFFSETTO:+0200
TZNAME:CEST
DTSTART:20250330T010000
END:DAYLIGHT
BEGIN:STANDARD
TZOFFSETFROM:+0200
TZOFFSETTO:+0100
TZNAME:CET
DTSTART:20251026T010000
END:STANDARD
BEGIN:DAYLIGHT
TZOFFSETFROM:+0100
TZOFFSETTO:+0200
TZNAME:CEST
DTSTART:20260329T010000
END:DAYLIGHT
BEGIN:STANDARD
TZOFFSETFROM:+0200
TZOFFSETTO:+0100
TZNAME:CET
DTSTART:20261025T010000
END:STANDARD
END:VTIMEZONE
BEGIN:VEVENT
DTSTART;TZID=Europe/Stockholm:20250111T120000
DTEND;TZID=Europe/Stockholm:20250111T140000
DTSTAMP:20260421T212126
CREATED:20241228T084308Z
LAST-MODIFIED:20241228T084308Z
UID:3725-1736596800-1736604000@vaxjo.vansterpartiet.se
SUMMARY:Lördagsöppet Bäckgatan
DESCRIPTION:Kom in alla trevliga människor. Det är alltid trevligt med lite politiska samtal eller prata om vad som helst. Vi bjuder på fika och ni kan även köpa en t-skirt eller något annat fint. \nVarmt välkomna!
URL:https://vaxjo.vansterpartiet.se/kalender/lordagsoppet-backgatan/
LOCATION:Bäckgatan 14\, Bäckgatan 14\, Växjö\, 352 41\, Sverige
END:VEVENT
BEGIN:VEVENT
DTSTART;TZID=Europe/Stockholm:20250118T120000
DTEND;TZID=Europe/Stockholm:20250118T140000
DTSTAMP:20260421T212126
CREATED:20241228T084450Z
LAST-MODIFIED:20241228T084450Z
UID:3727-1737201600-1737208800@vaxjo.vansterpartiet.se
SUMMARY:Lördagsöppet Bäckgatan
DESCRIPTION:Kom in alla trevliga människor. Det är alltid trevligt med lite politiska samtal eller prata om vad som helst. Vi bjuder på fika och ni kan även köpa en t-skirt eller något annat fint. \nVarmt välkomna!
URL:https://vaxjo.vansterpartiet.se/kalender/lordagsoppet-backgatan-2/
LOCATION:Bäckgatan 14\, Bäckgatan 14\, Växjö\, 352 41\, Sverige
END:VEVENT
BEGIN:VEVENT
DTSTART;TZID=Europe/Stockholm:20250120T170000
DTEND;TZID=Europe/Stockholm:20250120T190000
DTSTAMP:20260421T212126
CREATED:20250114T060336Z
LAST-MODIFIED:20250114T060336Z
UID:3748-1737392400-1737399600@vaxjo.vansterpartiet.se
SUMMARY:Styrelsemöte Vänsterpartiet Växjö
DESCRIPTION:Styrelsemöte på Bäckgatan 14. \nMötet är öppet för medlemmar. Anmälan till vaxjo@vansterpartiet.se
URL:https://vaxjo.vansterpartiet.se/kalender/styrelsemote-vansterpartiet-vaxjo-8/
LOCATION:Bäckgatan 14\, Bäckgatan 14\, Växjö\, 352 41\, Sverige
ORGANIZER;CN="V%C3%A4nsterpartiet V%C3%A4xj%C3%B6":MAILTO:vaxjo@vansterpartiet.se
END:VEVENT
BEGIN:VEVENT
DTSTART;TZID=Europe/Stockholm:20250123T170000
DTEND;TZID=Europe/Stockholm:20250123T190000
DTSTAMP:20260421T212126
CREATED:20250114T060555Z
LAST-MODIFIED:20250114T060555Z
UID:3750-1737651600-1737658800@vaxjo.vansterpartiet.se
SUMMARY:Gemensamt styrelsemöte
DESCRIPTION:Gemensamt styrelsemöte för V Växjö och V Braås Rottne.
URL:https://vaxjo.vansterpartiet.se/kalender/gemensamt-styrelsemote-2/
LOCATION:Bäckgatan 14\, Bäckgatan 14\, Växjö\, 352 41\, Sverige
END:VEVENT
BEGIN:VEVENT
DTSTART;TZID=Europe/Stockholm:20250125T120000
DTEND;TZID=Europe/Stockholm:20250125T140000
DTSTAMP:20260421T212126
CREATED:20241228T084557Z
LAST-MODIFIED:20241228T084557Z
UID:3729-1737806400-1737813600@vaxjo.vansterpartiet.se
SUMMARY:Lördagsöppet Bäckgatan
DESCRIPTION:Kom in alla trevliga människor. Det är alltid trevligt med lite politiska samtal eller prata om vad som helst. Vi bjuder på fika och ni kan även köpa en t-skirt eller något annat fint. \nVarmt välkomna!
URL:https://vaxjo.vansterpartiet.se/kalender/lordagsoppet-backgatan-3/
LOCATION:Bäckgatan 14\, Bäckgatan 14\, Växjö\, 352 41\, Sverige
END:VEVENT
BEGIN:VEVENT
DTSTART;TZID=Europe/Stockholm:20250125T200000
DTEND;TZID=Europe/Stockholm:20250125T213000
DTSTAMP:20260421T212126
CREATED:20250114T150928Z
LAST-MODIFIED:20250114T150928Z
UID:3754-1737835200-1737840600@vaxjo.vansterpartiet.se
SUMMARY:Kulturnatt
DESCRIPTION:Kulturnatten\n25 jan\, kl 20.00 / Live på gatan:\nMØR\nMØR är en electro-duo från Köpenhamn som har uppträtt i\nallt från färgglada industrilokaler i New York\, svettiga punk-\nkällare i Reykjavik\, mörka klubbar i Norden och utsålda fes-\ntivaler i Lettland och Frankrike.\nMed ena foten i elektronisk pop och techno\, och den andra i\nperformance\, poesi och stridsrop skapar MØR en unik kon-\nsertupplevelse som spänner från det sköra och vackra till to-\ntal dansfest. Texterna behandlar teman som förtryck\, hand-\nlingsförlamning och privilegieblindhet. Men också om att\nomfamna andras verklighet och tron på hopp och drömmar.\nMØR består av den elektroniska musikern Mika Forsling och\nperformance-makaren Anika Barkan. \nVarmtb välkomna
URL:https://vaxjo.vansterpartiet.se/kalender/kulturnatt/
LOCATION:Bäckgatan 14\, Bäckgatan 14\, Växjö\, 352 41\, Sverige
END:VEVENT
BEGIN:VEVENT
DTSTART;TZID=Europe/Stockholm:20250129T170000
DTEND;TZID=Europe/Stockholm:20250129T180000
DTSTAMP:20260421T212126
CREATED:20250114T054401Z
LAST-MODIFIED:20250114T054401Z
UID:3736-1738170000-1738173600@vaxjo.vansterpartiet.se
SUMMARY:Ljusmanifestation
DESCRIPTION:Välkomna till Speakers Corner för att tända ett ljus för de lidande och döda barnen i GAZA.
URL:https://vaxjo.vansterpartiet.se/kalender/ljusmanifestation-3/
LOCATION:Speakers corner\, Storgatan 18\,\, Växjö\, 35233\, Sweden
END:VEVENT
END:VCALENDAR