BEGIN:VCALENDAR
VERSION:2.0
PRODID:-//Vänsterpartiet Växjö - ECPv6.15.17.1//NONSGML v1.0//EN
CALSCALE:GREGORIAN
METHOD:PUBLISH
X-ORIGINAL-URL:https://vaxjo.vansterpartiet.se
X-WR-CALDESC:Händelser för Vänsterpartiet Växjö
REFRESH-INTERVAL;VALUE=DURATION:PT1H
X-Robots-Tag:noindex
X-PUBLISHED-TTL:PT1H
BEGIN:VTIMEZONE
TZID:Europe/Stockholm
BEGIN:DAYLIGHT
TZOFFSETFROM:+0100
TZOFFSETTO:+0200
TZNAME:CEST
DTSTART:20220327T010000
END:DAYLIGHT
BEGIN:STANDARD
TZOFFSETFROM:+0200
TZOFFSETTO:+0100
TZNAME:CET
DTSTART:20221030T010000
END:STANDARD
BEGIN:DAYLIGHT
TZOFFSETFROM:+0100
TZOFFSETTO:+0200
TZNAME:CEST
DTSTART:20230326T010000
END:DAYLIGHT
BEGIN:STANDARD
TZOFFSETFROM:+0200
TZOFFSETTO:+0100
TZNAME:CET
DTSTART:20231029T010000
END:STANDARD
BEGIN:DAYLIGHT
TZOFFSETFROM:+0100
TZOFFSETTO:+0200
TZNAME:CEST
DTSTART:20240331T010000
END:DAYLIGHT
BEGIN:STANDARD
TZOFFSETFROM:+0200
TZOFFSETTO:+0100
TZNAME:CET
DTSTART:20241027T010000
END:STANDARD
END:VTIMEZONE
BEGIN:VEVENT
DTSTART;TZID=Europe/Stockholm:20231018T110000
DTEND;TZID=Europe/Stockholm:20231018T150000
DTSTAMP:20260422T161408
CREATED:20231016T163939Z
LAST-MODIFIED:20231016T163939Z
UID:3173-1697626800-1697641200@vaxjo.vansterpartiet.se
SUMMARY:Bäckgatan 14
DESCRIPTION:Öppet hus för fika och prat
URL:https://vaxjo.vansterpartiet.se/kalender/backgatan-14/
LOCATION:Bäckgatan 14\, Bäckgatan 14\, Växjö\, 352 41\, Sverige
END:VEVENT
BEGIN:VEVENT
DTSTART;TZID=Europe/Stockholm:20231021T110000
DTEND;TZID=Europe/Stockholm:20231021T130000
DTSTAMP:20260422T161408
CREATED:20231016T163649Z
LAST-MODIFIED:20231016T163649Z
UID:3171-1697886000-1697893200@vaxjo.vansterpartiet.se
SUMMARY:Röd lördag
DESCRIPTION:Vi delar ut flygblad och samtalar med förbipasserande.
URL:https://vaxjo.vansterpartiet.se/kalender/rod-lordag-3/
LOCATION:Speakers corner\, Storgatan 18\,\, Växjö\, 35233\, Sweden
ORGANIZER;CN="V%C3%A4nsterpartiet V%C3%A4xj%C3%B6":MAILTO:vaxjo@vansterpartiet.se
END:VEVENT
BEGIN:VEVENT
DTSTART;TZID=Europe/Stockholm:20231021T120000
DTEND;TZID=Europe/Stockholm:20231021T120000
DTSTAMP:20260422T161408
CREATED:20231019T195323Z
LAST-MODIFIED:20231020T132553Z
UID:3179-1697889600-1697889600@vaxjo.vansterpartiet.se
SUMMARY:Utställning på Bäckgatan 14
DESCRIPTION:Öppet hus med fika och samtal. \nVälkomna på vernissage med utställning av politisk konst. \nInvigning kl 12:00
URL:https://vaxjo.vansterpartiet.se/kalender/utstallning-pa-backgatan-14/
LOCATION:Bäckgatan 14\, Bäckgatan 14\, Växjö\, 352 41\, Sverige
ORGANIZER;CN="V%C3%A4nsterpartiet V%C3%A4xj%C3%B6":MAILTO:vaxjo@vansterpartiet.se
END:VEVENT
BEGIN:VEVENT
DTSTART;TZID=Europe/Stockholm:20231025T110000
DTEND;TZID=Europe/Stockholm:20231025T150000
DTSTAMP:20260422T161408
CREATED:20231016T164116Z
LAST-MODIFIED:20231016T164116Z
UID:3175-1698231600-1698246000@vaxjo.vansterpartiet.se
SUMMARY:Bäckgatan 14
DESCRIPTION:Öppet hus för fika och prat
URL:https://vaxjo.vansterpartiet.se/kalender/backgatan-14-2/
LOCATION:Bäckgatan 14\, Bäckgatan 14\, Växjö\, 352 41\, Sverige
END:VEVENT
BEGIN:VEVENT
DTSTART;TZID=Europe/Stockholm:20231028T110000
DTEND;TZID=Europe/Stockholm:20231028T130000
DTSTAMP:20260422T161408
CREATED:20231016T164230Z
LAST-MODIFIED:20231016T164230Z
UID:3177-1698490800-1698498000@vaxjo.vansterpartiet.se
SUMMARY:Bäckgatan 14
DESCRIPTION:Öppet hus för fika och prat
URL:https://vaxjo.vansterpartiet.se/kalender/backgatan-14-3/
LOCATION:Bäckgatan 14\, Bäckgatan 14\, Växjö\, 352 41\, Sverige
END:VEVENT
BEGIN:VEVENT
DTSTART;TZID=Europe/Stockholm:20231030T173000
DTEND;TZID=Europe/Stockholm:20231030T173000
DTSTAMP:20260422T161408
CREATED:20231021T131524Z
LAST-MODIFIED:20231021T131524Z
UID:3183-1698687000-1698687000@vaxjo.vansterpartiet.se
SUMMARY:Medlemsmöte
DESCRIPTION:Varmt välkomna till medlemsmöte. \nDu får information om den kommunala budgeten och möjlighet att diskutera denna samt komma med synpunkter. \nVäxjö och Braås/Rottne partiföreningar bjuder på fika.
URL:https://vaxjo.vansterpartiet.se/kalender/medlemsmote/
LOCATION:Bäckgatan 14\, Bäckgatan 14\, Växjö\, 352 41\, Sverige
END:VEVENT
END:VCALENDAR