BEGIN:VCALENDAR
VERSION:2.0
PRODID:-//Vänsterpartiet Växjö - ECPv6.15.17.1//NONSGML v1.0//EN
CALSCALE:GREGORIAN
METHOD:PUBLISH
X-WR-CALNAME:Vänsterpartiet Växjö
X-ORIGINAL-URL:https://vaxjo.vansterpartiet.se
X-WR-CALDESC:Händelser för Vänsterpartiet Växjö
REFRESH-INTERVAL;VALUE=DURATION:PT1H
X-Robots-Tag:noindex
X-PUBLISHED-TTL:PT1H
BEGIN:VTIMEZONE
TZID:Europe/Stockholm
BEGIN:DAYLIGHT
TZOFFSETFROM:+0100
TZOFFSETTO:+0200
TZNAME:CEST
DTSTART:20240331T010000
END:DAYLIGHT
BEGIN:STANDARD
TZOFFSETFROM:+0200
TZOFFSETTO:+0100
TZNAME:CET
DTSTART:20241027T010000
END:STANDARD
BEGIN:DAYLIGHT
TZOFFSETFROM:+0100
TZOFFSETTO:+0200
TZNAME:CEST
DTSTART:20250330T010000
END:DAYLIGHT
BEGIN:STANDARD
TZOFFSETFROM:+0200
TZOFFSETTO:+0100
TZNAME:CET
DTSTART:20251026T010000
END:STANDARD
BEGIN:DAYLIGHT
TZOFFSETFROM:+0100
TZOFFSETTO:+0200
TZNAME:CEST
DTSTART:20260329T010000
END:DAYLIGHT
BEGIN:STANDARD
TZOFFSETFROM:+0200
TZOFFSETTO:+0100
TZNAME:CET
DTSTART:20261025T010000
END:STANDARD
END:VTIMEZONE
BEGIN:VEVENT
DTSTART;TZID=Europe/Stockholm:20250611T170000
DTEND;TZID=Europe/Stockholm:20250611T190000
DTSTAMP:20260421T111738
CREATED:20250526T050424Z
LAST-MODIFIED:20250526T050424Z
UID:3899-1749661200-1749668400@vaxjo.vansterpartiet.se
SUMMARY:Styrelsemöte Vänsterpartiet Växjö
DESCRIPTION:Vänsterpartiet Växjö håller styrelsemöte onsdagen 11/6 på Bäckgatan kl 17:00. \nMötet är öppet för medlemmar efter anmälan till Pernilla pernillaramström@hotmail.com.
URL:https://vaxjo.vansterpartiet.se/kalender/styrelsemote-vansterpartiet-vaxjo-13/
LOCATION:Bäckgatan 14\, Bäckgatan 14\, Växjö\, 352 41\, Sverige
ORGANIZER;CN="V%C3%A4nsterpartiet V%C3%A4xj%C3%B6":MAILTO:vaxjo@vansterpartiet.se
END:VEVENT
BEGIN:VEVENT
DTSTART;TZID=Europe/Stockholm:20250607T120000
DTEND;TZID=Europe/Stockholm:20250607T140000
DTSTAMP:20260421T111738
CREATED:20250515T165249Z
LAST-MODIFIED:20250515T165249Z
UID:3893-1749297600-1749304800@vaxjo.vansterpartiet.se
SUMMARY:Öppet på Bäckgatan
DESCRIPTION:Kom in och prata lite politik eller något annat roligt. Kaffe och kaka bjuder vi på. Varmt välkomna.
URL:https://vaxjo.vansterpartiet.se/kalender/oppet-pa-backgatan-28/
LOCATION:Bäckgatan 14\, Bäckgatan 14\, Växjö\, 352 41\, Sverige
END:VEVENT
BEGIN:VEVENT
DTSTART;TZID=Europe/Stockholm:20250602T180000
DTEND;TZID=Europe/Stockholm:20250602T200000
DTSTAMP:20260421T111738
CREATED:20250526T051003Z
LAST-MODIFIED:20250526T051003Z
UID:3901-1748887200-1748894400@vaxjo.vansterpartiet.se
SUMMARY:Sammanträde kommunala gruppen
DESCRIPTION:Kommunala gruppen sammanträder måndagen 2/6 kl 18:00 i partilokalen på Bäckgatan. \nAlla kommunala gruppens möten är öppna för Dig som medlem. Vartannat möte är digitalt på Teams och vartannat hålls vanligen på plan 3 i Växjös kommunhus.\nÄr du nyfiken på kommunala gruppens arbete? Kontakta Björn Kleinhenz på bjorn.kleinhenz@vaxjo.se för information och länk för de möten som är digitala.
URL:https://vaxjo.vansterpartiet.se/kalender/sammantrade-kommunala-gruppen/
LOCATION:Bäckgatan 14\, Bäckgatan 14\, Växjö\, 352 41\, Sverige
ORGANIZER;CN="Kommunala gruppen":MAILTO:bjorn.kleinhenz@vaxjo.se
END:VEVENT
BEGIN:VEVENT
DTSTART;TZID=Europe/Stockholm:20250531T120000
DTEND;TZID=Europe/Stockholm:20250531T140000
DTSTAMP:20260421T111738
CREATED:20250515T165142Z
LAST-MODIFIED:20250515T165142Z
UID:3891-1748692800-1748700000@vaxjo.vansterpartiet.se
SUMMARY:Öppet på Bäckgatan
DESCRIPTION:Kom in och prata lite politik eller något annat roligt. Kaffe och kaka bjuder vi på. Varmt välkomna. \n 
URL:https://vaxjo.vansterpartiet.se/kalender/oppet-pa-backgatan-27/
LOCATION:Bäckgatan 14\, Bäckgatan 14\, Växjö\, 352 41\, Sverige
END:VEVENT
BEGIN:VEVENT
DTSTART;TZID=Europe/Stockholm:20250524T120000
DTEND;TZID=Europe/Stockholm:20250524T180000
DTSTAMP:20260421T111738
CREATED:20250515T164710Z
LAST-MODIFIED:20250515T164710Z
UID:3888-1748088000-1748109600@vaxjo.vansterpartiet.se
SUMMARY:Araby Folkfest
DESCRIPTION:Möt Vänsterpartiet på Araby folkfest. Vi är där och bjuder på kaffe och fika\, delar ut flygblad och Knytt. \nStäll upp\, va med\, engagera Er \nVälkomna
URL:https://vaxjo.vansterpartiet.se/kalender/araby-folkfest/
LOCATION:Araby Park Arena\, Höstvägen 5A\,\, Växjö\, 35237\, Sverige
END:VEVENT
BEGIN:VEVENT
DTSTART;TZID=Europe/Stockholm:20250524T120000
DTEND;TZID=Europe/Stockholm:20250524T140000
DTSTAMP:20260421T111738
CREATED:20250405T053417Z
LAST-MODIFIED:20250405T053417Z
UID:3847-1748088000-1748095200@vaxjo.vansterpartiet.se
SUMMARY:Öppet på Bäckgatan
DESCRIPTION:Kom in och prata lite politik eller något annat roligt. Kaffe och kaka bjuder vi på. Varmt välkomna.
URL:https://vaxjo.vansterpartiet.se/kalender/oppet-pa-backgatan-25/
LOCATION:Bäckgatan 14\, Bäckgatan 14\, Växjö\, 352 41\, Sverige
END:VEVENT
BEGIN:VEVENT
DTSTART;TZID=Europe/Stockholm:20250520T170000
DTEND;TZID=Europe/Stockholm:20250520T190000
DTSTAMP:20260421T111738
CREATED:20250515T170121Z
LAST-MODIFIED:20250515T170121Z
UID:3897-1747760400-1747767600@vaxjo.vansterpartiet.se
SUMMARY:Styrelsemöte V Växjö
DESCRIPTION:Styrelsemöte för Vänsterpartiet Växjö. OBS! Digitalt möte på teams. \nMötet är öppet för medlemmar efter anmälan till Pernilla Ramström pernillaramstrom@hotmail.com \n 
URL:https://vaxjo.vansterpartiet.se/kalender/styrelsemote-v-vaxjo-5/
LOCATION:Digitalt möte
ORGANIZER;CN="V%C3%A4nsterpartiet V%C3%A4xj%C3%B6":MAILTO:vaxjo@vansterpartiet.se
END:VEVENT
BEGIN:VEVENT
DTSTART;TZID=Europe/Stockholm:20250517T120000
DTEND;TZID=Europe/Stockholm:20250517T140000
DTSTAMP:20260421T111738
CREATED:20250405T053247Z
LAST-MODIFIED:20250405T053247Z
UID:3845-1747483200-1747490400@vaxjo.vansterpartiet.se
SUMMARY:Öppet på Bäckgatan
DESCRIPTION:Kom in och prata lite politik eller något annat roligt. Kaffe och kaka bjuder vi på. Varmt välkomna.
URL:https://vaxjo.vansterpartiet.se/kalender/oppet-pa-backgatan-24/
LOCATION:Bäckgatan 14\, Bäckgatan 14\, Växjö\, 352 41\, Sverige
END:VEVENT
BEGIN:VEVENT
DTSTART;TZID=Europe/Stockholm:20250507T180000
DTEND;TZID=Europe/Stockholm:20250507T200000
DTSTAMP:20260421T111738
CREATED:20250414T055715Z
LAST-MODIFIED:20250414T055715Z
UID:3872-1746640800-1746648000@vaxjo.vansterpartiet.se
SUMMARY:Queer Karaoke
DESCRIPTION:Den 7 maj kl 18.00 är det ”Queer Karaoke” på Bullet Bar i Växjö\, kom och sjung tillsammans med oss!
URL:https://vaxjo.vansterpartiet.se/kalender/queer-karaoke/
LOCATION:Bullet bar\, Sandgärdsgatan 17\, Växjö
END:VEVENT
BEGIN:VEVENT
DTSTART;TZID=Europe/Stockholm:20250503T120000
DTEND;TZID=Europe/Stockholm:20250503T140000
DTSTAMP:20260421T111738
CREATED:20250405T053019Z
LAST-MODIFIED:20250405T053019Z
UID:3843-1746273600-1746280800@vaxjo.vansterpartiet.se
SUMMARY:Öppet på Bäckgatan
DESCRIPTION:Kom in och prata lite politik eller något annat roligt. Kaffe och kaka bjuder vi på. Varmt välkomna.
URL:https://vaxjo.vansterpartiet.se/kalender/oppet-pa-backgatan-23/
LOCATION:Bäckgatan 14\, Bäckgatan 14\, Växjö\, 352 41\, Sverige
END:VEVENT
BEGIN:VEVENT
DTSTART;TZID=Europe/Stockholm:20250501T130000
DTEND;TZID=Europe/Stockholm:20250501T160000
DTSTAMP:20260421T111738
CREATED:20250414T054801Z
LAST-MODIFIED:20250414T054801Z
UID:3870-1746104400-1746115200@vaxjo.vansterpartiet.se
SUMMARY:1:a maj firande
DESCRIPTION:1 maj-firande! Samling kl 13.00 på Speakers Corner för appelltal\, fördelning av plakat\, försäljning av 1maj-pins och repetition av talkörer. 13.30 tågar vi tillsammans med Uppvidinge Älghults musikkår och avslutar traditionsenligt på Vattentorget. På IOGT finns palestinskt fika\, och det blir tal av Lotta Johnsson Fornarve\, riksdagsledamot och Maria Garmer\, kommunalråd samt musik av gruppen ”Dom fläckfria”. Kom med och bidra till att göra Vänsterpartiets tåg större än någonsin!\n\nVill du hjälpa till med själva arrangemanget så ligger ett antal aktioner uppe i Zetkin/Agera där du kan boka dig\, länk ligger längst ner i detta mail. Alternativt svarar du på det här mailet med vad du kan tänka dig att bidra med så hjälps vi åt att hitta en arbetsuppgift åt dig.
URL:https://vaxjo.vansterpartiet.se/kalender/1a-maj-firande/
LOCATION:Speakers corner\, Storgatan 18\,\, Växjö\, 35233\, Sweden
END:VEVENT
BEGIN:VEVENT
DTSTART;TZID=Europe/Stockholm:20250428T180000
DTEND;TZID=Europe/Stockholm:20250428T200000
DTSTAMP:20260421T111738
CREATED:20250414T053858Z
LAST-MODIFIED:20250414T053858Z
UID:3866-1745863200-1745870400@vaxjo.vansterpartiet.se
SUMMARY:Medlemsmöte
DESCRIPTION:På måndagen den 28 april kl 18.00 har vi ett ”Medlemsmöte i halvtid”   på Bäckgatan 14 då vår budgetgrupp informerar om vad vi genomfört under två år i kommunalt styre – det är verkligen inte lite! Mötet inleds med information från partistyrelsen\, Håkan Svenneling deltar via länk. Vi bjuder såklart på fika – varmt välkommen!
URL:https://vaxjo.vansterpartiet.se/kalender/medlemsmote-4/
LOCATION:Bäckgatan 14\, Bäckgatan 14\, Växjö\, 352 41\, Sverige
ORGANIZER;CN="V%C3%A4nsterpartiet V%C3%A4xj%C3%B6":MAILTO:vaxjo@vansterpartiet.se
END:VEVENT
BEGIN:VEVENT
DTSTART;TZID=Europe/Stockholm:20250426T120000
DTEND;TZID=Europe/Stockholm:20250426T140000
DTSTAMP:20260421T111738
CREATED:20250414T054214Z
LAST-MODIFIED:20250414T054214Z
UID:3868-1745668800-1745676000@vaxjo.vansterpartiet.se
SUMMARY:Plakatverkstad
DESCRIPTION:Sen är det extra mycket aktivitet lördagen den 26 april då vi har öppet 12-14 och dessutom Plakatverkstad inför 1 maj. Vi bjuder på fika och har bas-material på plats\, vill du dekorera din skylt med något speciellt tar du med det själv 🙂Alla som vill gå med oss i tåget är välkomna att skapa sin egen skylt\, så ta gärna med dig en vän från någon annan partiförening i distriktet!
URL:https://vaxjo.vansterpartiet.se/kalender/plakatverkstad-2/
LOCATION:Bäckgatan 14\, Bäckgatan 14\, Växjö\, 352 41\, Sverige
END:VEVENT
BEGIN:VEVENT
DTSTART;TZID=Europe/Stockholm:20250426T120000
DTEND;TZID=Europe/Stockholm:20250426T140000
DTSTAMP:20260421T111738
CREATED:20250405T052856Z
LAST-MODIFIED:20250405T052856Z
UID:3841-1745668800-1745676000@vaxjo.vansterpartiet.se
SUMMARY:Öppet på Bäckgatan
DESCRIPTION:Kom in och prata lite politik eller något annat roligt. Kaffe och kaka bjuder vi på. Varmt välkomna.
URL:https://vaxjo.vansterpartiet.se/kalender/oppet-pa-backgatan-22/
LOCATION:Bäckgatan 14\, Bäckgatan 14\, Växjö\, 352 41\, Sverige
END:VEVENT
BEGIN:VEVENT
DTSTART;TZID=Europe/Stockholm:20250423T173000
DTEND;TZID=Europe/Stockholm:20250423T200000
DTSTAMP:20260421T111738
CREATED:20250405T054415Z
LAST-MODIFIED:20250405T054415Z
UID:3853-1745429400-1745438400@vaxjo.vansterpartiet.se
SUMMARY:Styrelsemöte V Växjö och V Braås/Rottne
DESCRIPTION:Gemensamt styrelsemöte för V Växjö och V Braås/Rottne.
URL:https://vaxjo.vansterpartiet.se/kalender/styrelsemote-v-vaxjo-och-v-braas-rottne/
LOCATION:Bäckgatan 14\, Bäckgatan 14\, Växjö\, 352 41\, Sverige
END:VEVENT
BEGIN:VEVENT
DTSTART;TZID=Europe/Stockholm:20250419T120000
DTEND;TZID=Europe/Stockholm:20250419T140000
DTSTAMP:20260421T111738
CREATED:20250317T180713Z
LAST-MODIFIED:20250317T180742Z
UID:3819-1745064000-1745071200@vaxjo.vansterpartiet.se
SUMMARY:Öppet på Bäckgatan
DESCRIPTION:Kom in och prata lite politik eller något annat roligt. Kaffe och kaka bjuder vi på. Varmt välkomna.
URL:https://vaxjo.vansterpartiet.se/kalender/oppet-pa-backgatan-21/
LOCATION:Bäckgatan 14\, Bäckgatan 14\, Växjö\, 352 41\, Sverige
END:VEVENT
BEGIN:VEVENT
DTSTART;TZID=Europe/Stockholm:20250412T120000
DTEND;TZID=Europe/Stockholm:20250412T140000
DTSTAMP:20260421T111738
CREATED:20250317T180614Z
LAST-MODIFIED:20250317T180911Z
UID:3817-1744459200-1744466400@vaxjo.vansterpartiet.se
SUMMARY:Öppet på Bäckgatan
DESCRIPTION:Kom in och prata lite politik eller något annat roligt. Kaffe och kaka bjuder vi på. Varmt välkomna.
URL:https://vaxjo.vansterpartiet.se/kalender/oppet-pa-backgatan-20/
LOCATION:Bäckgatan 14\, Bäckgatan 14\, Växjö\, 352 41\, Sverige
END:VEVENT
BEGIN:VEVENT
DTSTART;TZID=Europe/Stockholm:20250407T180000
DTEND;TZID=Europe/Stockholm:20250407T200000
DTSTAMP:20260421T111738
CREATED:20250405T053531Z
LAST-MODIFIED:20250405T054113Z
UID:3849-1744048800-1744056000@vaxjo.vansterpartiet.se
SUMMARY:Sammanträde Kommunala gruppen
DESCRIPTION:Fysiskt möte på Bäckgatan 14 \n  \nAlla kommunala gruppens möten är öppna för Dig som medlem. Vartannat möte är digitalt på Teams och vartannat hålls vanligen på plan 3 i Växjös kommunhus.\nÄr du nyfiken på kommunala gruppens arbete? Kontakta Björn Kleinhenz på bjorn.kleinhenz@vaxjo.se för information och länk för de möten som är digitala.
URL:https://vaxjo.vansterpartiet.se/kalender/oppet-pa-backgatan-26/
LOCATION:Bäckgatan 14\, Bäckgatan 14\, Växjö\, 352 41\, Sverige
ORGANIZER;CN="Kommunala gruppen":MAILTO:bjorn.kleinhenz@vaxjo.se
END:VEVENT
BEGIN:VEVENT
DTSTART;TZID=Europe/Stockholm:20250405T120000
DTEND;TZID=Europe/Stockholm:20250405T140000
DTSTAMP:20260421T111738
CREATED:20250317T180532Z
LAST-MODIFIED:20250317T180532Z
UID:3815-1743854400-1743861600@vaxjo.vansterpartiet.se
SUMMARY:Öppet på Bäckgatan
DESCRIPTION:Kom in och prata lite politik eller något annat roligt. Kaffe och kaka bjuder vi på. Varmt välkomna.
URL:https://vaxjo.vansterpartiet.se/kalender/oppet-pa-backgatan-19/
LOCATION:Bäckgatan 14\, Bäckgatan 14\, Växjö\, 352 41\, Sverige
END:VEVENT
BEGIN:VEVENT
DTSTART;TZID=Europe/Stockholm:20250402T170000
DTEND;TZID=Europe/Stockholm:20250402T180000
DTSTAMP:20260421T111738
CREATED:20250322T202018Z
LAST-MODIFIED:20250325T152333Z
UID:3823-1743613200-1743616800@vaxjo.vansterpartiet.se
SUMMARY:Ljusmanifestation för Gazas barn
DESCRIPTION:Välkomna till Speakers Corner och tänd ett ljus för barnen i Gaza. Ni får gärna hjälpa till med att läsa namnen på de mördade barnen.
URL:https://vaxjo.vansterpartiet.se/kalender/ljusmanifestation-for-gazas-barn/
LOCATION:Speakers corner\, Storgatan 18\,\, Växjö\, 35233\, Sweden
END:VEVENT
BEGIN:VEVENT
DTSTART;TZID=Europe/Stockholm:20250329T120000
DTEND;TZID=Europe/Stockholm:20250329T140000
DTSTAMP:20260421T111738
CREATED:20250325T174311Z
LAST-MODIFIED:20250325T174311Z
UID:3834-1743249600-1743256800@vaxjo.vansterpartiet.se
SUMMARY:Röd Lördag
DESCRIPTION:Möt Vänsterpartiet på Storgatan. Håll utkik efter vår röda cykel. Kom gärna till oss och ta en kopp kaffe. Ställ en fråga eller berätta om något intressant. \nVäl mött.
URL:https://vaxjo.vansterpartiet.se/kalender/rod-lordag-13/
LOCATION:Speakers corner\, Storgatan 18\,\, Växjö\, 35233\, Sweden
END:VEVENT
BEGIN:VEVENT
DTSTART;TZID=Europe/Stockholm:20250329T120000
DTEND;TZID=Europe/Stockholm:20250329T140000
DTSTAMP:20260421T111738
CREATED:20250225T070027Z
LAST-MODIFIED:20250225T070027Z
UID:3796-1743249600-1743256800@vaxjo.vansterpartiet.se
SUMMARY:Öppet på Bäckgatan
DESCRIPTION:Kom in och prata lite politik eller något annat roligt. Kaffe och kaka bjuder vi på. \nVarmt välkomna.
URL:https://vaxjo.vansterpartiet.se/kalender/oppet-pa-backgatan-18/
LOCATION:Bäckgatan 14\, Bäckgatan 14\, Växjö\, 352 41\, Sverige
END:VEVENT
BEGIN:VEVENT
DTSTART;TZID=Europe/Stockholm:20250322T120000
DTEND;TZID=Europe/Stockholm:20250322T140000
DTSTAMP:20260421T111738
CREATED:20250225T065903Z
LAST-MODIFIED:20250225T065903Z
UID:3794-1742644800-1742652000@vaxjo.vansterpartiet.se
SUMMARY:Öppet på Bäckgatan
DESCRIPTION:Kom in och prata lite politik eller något annat roligt. Kaffe och kaka bjuder vi på. \nVarmt välkomna.
URL:https://vaxjo.vansterpartiet.se/kalender/oppet-pa-backgatan-17/
LOCATION:Bäckgatan 14\, Bäckgatan 14\, Växjö\, 352 41\, Sverige
END:VEVENT
BEGIN:VEVENT
DTSTART;TZID=Europe/Stockholm:20250319T170000
DTEND;TZID=Europe/Stockholm:20250319T180000
DTSTAMP:20260421T111738
CREATED:20250317T180400Z
LAST-MODIFIED:20250317T180400Z
UID:3813-1742403600-1742407200@vaxjo.vansterpartiet.se
SUMMARY:Manifestation för Gaza
DESCRIPTION:Ljusmanifestation för barnen i GAZA. \nVälkommen att närvara på det sätt som passar Dig; lyssna\, tänd ett ljus\, läs namn.
URL:https://vaxjo.vansterpartiet.se/kalender/manifestation-for-gaza/
LOCATION:Speakers corner\, Storgatan 18\,\, Växjö\, 35233\, Sweden
END:VEVENT
BEGIN:VEVENT
DTSTART;TZID=Europe/Stockholm:20250315T120000
DTEND;TZID=Europe/Stockholm:20250315T140000
DTSTAMP:20260421T111738
CREATED:20250225T065742Z
LAST-MODIFIED:20250225T065742Z
UID:3792-1742040000-1742047200@vaxjo.vansterpartiet.se
SUMMARY:Öppet på Bäckgatan
DESCRIPTION:Kom in och prata lite politik eller något annat roligt. Kaffe och kaka bjuder vi på. \nVarmt välkomna.
URL:https://vaxjo.vansterpartiet.se/kalender/oppet-pa-backgatan-16/
LOCATION:Bäckgatan 14\, Bäckgatan 14\, Växjö\, 352 41\, Sverige
END:VEVENT
BEGIN:VEVENT
DTSTART;TZID=Europe/Stockholm:20250310T180000
DTEND;TZID=Europe/Stockholm:20250310T200000
DTSTAMP:20260421T111738
CREATED:20250225T070412Z
LAST-MODIFIED:20250225T070412Z
UID:3798-1741629600-1741636800@vaxjo.vansterpartiet.se
SUMMARY:Kommunala gruppen sammanträder
DESCRIPTION:Kommunala gruppen sammanträder. Obs! Möte på Teams.
URL:https://vaxjo.vansterpartiet.se/kalender/kommunala-gruppen-sammantrader-10/
LOCATION:Digitalt möte
ORGANIZER;CN="Kommunala gruppen":MAILTO:bjorn.kleinhenz@vaxjo.se
END:VEVENT
BEGIN:VEVENT
DTSTART;TZID=Europe/Stockholm:20250308T190000
DTEND;TZID=Europe/Stockholm:20250308T193000
DTSTAMP:20260421T111738
CREATED:20250302T113422Z
LAST-MODIFIED:20250302T113422Z
UID:3811-1741460400-1741462200@vaxjo.vansterpartiet.se
SUMMARY:Internationella kvinnodagen
DESCRIPTION:Internationella kvinnodagen med Vänsterpartiet Växjö. \nFöreläsning med NINA BJÖRK \nBäckgatan 14 \nLördag 8:e mars kl. 18.00 \nVälkomna!
URL:https://vaxjo.vansterpartiet.se/kalender/internationella-kvinnodagen-2/
LOCATION:Bäckgatan 14\, Bäckgatan 14\, Växjö\, 352 41\, Sverige
END:VEVENT
BEGIN:VEVENT
DTSTART;TZID=Europe/Stockholm:20250308T120000
DTEND;TZID=Europe/Stockholm:20250308T140000
DTSTAMP:20260421T111738
CREATED:20250225T065547Z
LAST-MODIFIED:20250225T065547Z
UID:3790-1741435200-1741442400@vaxjo.vansterpartiet.se
SUMMARY:Öppet på Bäckgatan
DESCRIPTION:Kom in och prata lite politik eller något annat roligt. Kaffe och kaka bjuder vi på. \nVarmt välkomna.
URL:https://vaxjo.vansterpartiet.se/kalender/oppet-pa-backgatan-15/
LOCATION:Bäckgatan 14\, Bäckgatan 14\, Växjö\, 352 41\, Sverige
END:VEVENT
BEGIN:VEVENT
DTSTART;TZID=Europe/Stockholm:20250303T180000
DTEND;TZID=Europe/Stockholm:20250303T193000
DTSTAMP:20260421T111738
CREATED:20250223T172331Z
LAST-MODIFIED:20250223T172331Z
UID:3782-1741024800-1741030200@vaxjo.vansterpartiet.se
SUMMARY:Ida Gabrielsson på Bäckgatan
DESCRIPTION:Ida Gabrielsson i Växjö måndagen 3 mars kl. 18.00\n\n\n\n\n\n\n\n\nVälkommen till öppet möte med Ida Gabrielsson\, ekonomisk-politisk talesperson för Vänsterpartiet. \nIda kommer till Bäckgatan 14 för att prata om välfärd\, ekonomisk politik och Vänsterpartiets strategier för ett jämlikt Sverige. \nEfter föredraget finns det möjlighet att ställa frågor. \nFika bjuds naturligtvis. \nVälkom̈men!
URL:https://vaxjo.vansterpartiet.se/kalender/ida-gabrielsson-pa-backgatan/
LOCATION:Bäckgatan 14\, Bäckgatan 14\, Växjö\, 352 41\, Sverige
ORGANIZER;CN="V%C3%A4nsterpartiet Kronoberg":MAILTO:kronoberg@vansterpartiet.se
END:VEVENT
BEGIN:VEVENT
DTSTART;TZID=Europe/Stockholm:20250301T120000
DTEND;TZID=Europe/Stockholm:20250301T140000
DTSTAMP:20260421T111738
CREATED:20250223T172702Z
LAST-MODIFIED:20250223T172702Z
UID:3784-1740830400-1740837600@vaxjo.vansterpartiet.se
SUMMARY:Öppet på Bäckgatan
DESCRIPTION:Välkomna på en kopp kaffe och intressanta samtal.
URL:https://vaxjo.vansterpartiet.se/kalender/oppet-pa-backgatan-13/
LOCATION:Bäckgatan 14\, Bäckgatan 14\, Växjö\, 352 41\, Sverige
END:VEVENT
END:VCALENDAR