BEGIN:VCALENDAR
VERSION:2.0
PRODID:-//Vänsterpartiet Växjö - ECPv6.15.17.1//NONSGML v1.0//EN
CALSCALE:GREGORIAN
METHOD:PUBLISH
X-WR-CALNAME:Vänsterpartiet Växjö
X-ORIGINAL-URL:https://vaxjo.vansterpartiet.se
X-WR-CALDESC:Händelser för Vänsterpartiet Växjö
REFRESH-INTERVAL;VALUE=DURATION:PT1H
X-Robots-Tag:noindex
X-PUBLISHED-TTL:PT1H
BEGIN:VTIMEZONE
TZID:Europe/Stockholm
BEGIN:DAYLIGHT
TZOFFSETFROM:+0100
TZOFFSETTO:+0200
TZNAME:CEST
DTSTART:20210328T010000
END:DAYLIGHT
BEGIN:STANDARD
TZOFFSETFROM:+0200
TZOFFSETTO:+0100
TZNAME:CET
DTSTART:20211031T010000
END:STANDARD
BEGIN:DAYLIGHT
TZOFFSETFROM:+0100
TZOFFSETTO:+0200
TZNAME:CEST
DTSTART:20220327T010000
END:DAYLIGHT
BEGIN:STANDARD
TZOFFSETFROM:+0200
TZOFFSETTO:+0100
TZNAME:CET
DTSTART:20221030T010000
END:STANDARD
BEGIN:DAYLIGHT
TZOFFSETFROM:+0100
TZOFFSETTO:+0200
TZNAME:CEST
DTSTART:20230326T010000
END:DAYLIGHT
BEGIN:STANDARD
TZOFFSETFROM:+0200
TZOFFSETTO:+0100
TZNAME:CET
DTSTART:20231029T010000
END:STANDARD
END:VTIMEZONE
BEGIN:VEVENT
DTSTART;TZID=Europe/Stockholm:20220423T110000
DTEND;TZID=Europe/Stockholm:20220423T130000
DTSTAMP:20260422T232341
CREATED:20220420T174825Z
LAST-MODIFIED:20220420T174840Z
UID:2387-1650711600-1650718800@vaxjo.vansterpartiet.se
SUMMARY:Manifestation Nej till Nato!
DESCRIPTION:Välkomna att delta i manifestation Nej till nato! \nPlats: Speakers Corner\, Växjö\nTid: Lördagen den 23 april kl 11-13. \nInformation: \nVi samlas vid Speakers Corner på Storgatan i Växjö för att säga NEJ till svenskt Natomedlemskap. Appelltal\, flygbladsutdelning och ev. lite musik. Nu måste vi alla säga ifrån! \nRobert Armblad kommer att tala som representant för Vänsterpartiet. \nMer information finns att läsa på facebookeventet.
URL:https://vaxjo.vansterpartiet.se/kalender/manifestation-nej-till-nato/
LOCATION:Speakers corner\, Storgatan 18\,\, Växjö\, 35233\, Sweden
END:VEVENT
BEGIN:VEVENT
DTSTART;TZID=Europe/Stockholm:20220423T110000
DTEND;TZID=Europe/Stockholm:20220423T130000
DTSTAMP:20260422T232341
CREATED:20220302T233739Z
LAST-MODIFIED:20220404T172245Z
UID:2136-1650711600-1650718800@vaxjo.vansterpartiet.se
SUMMARY:Röd lördag\, Willans park
DESCRIPTION:Vi ses vid Willans park lördag 23 april 11.00 – 13.00. Du hittar oss på plats med vår röda cykel. \nDu kan anmäla ditt deltagande via denna länk https://www.zetk.in/o/vansterpartiet-kronoberg
URL:https://vaxjo.vansterpartiet.se/kalender/rod-lordag-willans-park/
LOCATION:Willans park\, Willans Park\, Växjö\, 352 30\, Sverige
END:VEVENT
BEGIN:VEVENT
DTSTART;TZID=Europe/Stockholm:20220419T183000
DTEND;TZID=Europe/Stockholm:20220419T193000
DTSTAMP:20260422T232341
CREATED:20220415T152546Z
LAST-MODIFIED:20220415T152611Z
UID:2362-1650393000-1650396600@vaxjo.vansterpartiet.se
SUMMARY:Debatt på Idé- och Kunskapscentrum Kronoberg
DESCRIPTION:Idé- och Kunskapscentrum Kronoberg bjuder in till debatt 19 april kl 18.30 på Konferenssalen Högsbyvägen 3B\, Räppe\, Växjö. \nDet ska handla om funktionsrättsfrågor i länet. Kerstin Wirehn\, Ljungby debatterar för (V). Intresserade kan naturligtvis delta som publik.
URL:https://vaxjo.vansterpartiet.se/kalender/2362/
END:VEVENT
BEGIN:VEVENT
DTSTART;TZID=Europe/Stockholm:20220405T123000
DTEND;TZID=Europe/Stockholm:20220405T133000
DTSTAMP:20260422T232341
CREATED:20220404T110710Z
LAST-MODIFIED:20220404T110800Z
UID:2259-1649161800-1649165400@vaxjo.vansterpartiet.se
SUMMARY:Linneuniversitetet – Röd cykel och information
DESCRIPTION:Vi pratar med förbipasserande utanför universitetets huvudentré och delar ut information. Ung V är särskilt välkomna att delta.
URL:https://vaxjo.vansterpartiet.se/kalender/linneuniversitetet-rod-cykel-och-information-2/
END:VEVENT
BEGIN:VEVENT
DTSTART;TZID=Europe/Stockholm:20220402T110000
DTEND;TZID=Europe/Stockholm:20220402T130000
DTSTAMP:20260422T232341
CREATED:20220302T233613Z
LAST-MODIFIED:20220404T014521Z
UID:2133-1648897200-1648904400@vaxjo.vansterpartiet.se
SUMMARY:Röd lördag\, Willans park
DESCRIPTION:Vi ses vid Willans park lördag 2 april 11.00 – 13.00. Du hittar oss på plats med vår röda cykel.
URL:https://vaxjo.vansterpartiet.se/kalender/rod-lordag-2-april-willans-park/
LOCATION:Willans park\, Willans Park\, Växjö\, 352 30\, Sverige
END:VEVENT
BEGIN:VEVENT
DTSTART;TZID=Europe/Stockholm:20220329T120000
DTEND;TZID=Europe/Stockholm:20220329T133000
DTSTAMP:20260422T232341
CREATED:20220316T160359Z
LAST-MODIFIED:20220316T160359Z
UID:2178-1648555200-1648560600@vaxjo.vansterpartiet.se
SUMMARY:Linneuniversitetet - Röd cykel och information
DESCRIPTION:Vi pratar med förbipasserande utanför universitetets huvudentré och delar ut information. Ung V är särskilt välkomna att delta.\nDu kan anmäla ditt deltagande via denna länk https://www.zetk.in/o/vansterpartiet-kronoberg
URL:https://vaxjo.vansterpartiet.se/kalender/linneuniversitetet-rod-cykel-och-information/
LOCATION:Linneuniversitetet\, P G Vejdes väg\, Växjö\, 351 95\, Sweden
END:VEVENT
BEGIN:VEVENT
DTSTART;TZID=Europe/Stockholm:20220319T110000
DTEND;TZID=Europe/Stockholm:20220319T130000
DTSTAMP:20260422T232341
CREATED:20220302T233424Z
LAST-MODIFIED:20220310T121737Z
UID:2131-1647687600-1647694800@vaxjo.vansterpartiet.se
SUMMARY:Röd lördag 19 mars
DESCRIPTION:Du hittar oss på plats med vår röda cykel.
URL:https://vaxjo.vansterpartiet.se/kalender/rod-lordag-19-mars/
LOCATION:Willans park\, Willans Park\, Växjö\, 352 30\, Sverige
END:VEVENT
BEGIN:VEVENT
DTSTART;TZID=Europe/Stockholm:20220308T180000
DTEND;TZID=Europe/Stockholm:20220308T200000
DTSTAMP:20260422T232341
CREATED:20220306T235216Z
LAST-MODIFIED:20220306T235216Z
UID:2150-1646762400-1646769600@vaxjo.vansterpartiet.se
SUMMARY:Internationella kvinnodagen 8 mars
DESCRIPTION:Vänsterpartiet och Ung Vänster i Växjö kommun uppmärksammar 8 mars på Kafé de Luxe 18.00-20.00. \n\nRebecka Bohlin\, chefredaktör på ETC Nyhetsmagasin pratar härskartekniker\, \nGreat Western Road spelar country\, \nMaria Garmer\, V:s kommunalrådskandidat\, är konferencier och DJ\, \nUng Vänster har musikquiz och håller tal! 
URL:https://vaxjo.vansterpartiet.se/kalender/internationella-kvinnodagen-8-mars/
LOCATION:Kafe de luxe\, Sandgärdsgatan 19\, Växjö\, Växjö\, 352 30\, Sverige
ORGANIZER;CN="V%C3%A4nsterpartiet V%C3%A4xj%C3%B6":MAILTO:vaxjo@vansterpartiet.se
END:VEVENT
END:VCALENDAR