BEGIN:VCALENDAR
VERSION:2.0
PRODID:-//Vänsterpartiet Växjö - ECPv6.15.17.1//NONSGML v1.0//EN
CALSCALE:GREGORIAN
METHOD:PUBLISH
X-WR-CALNAME:Vänsterpartiet Växjö
X-ORIGINAL-URL:https://vaxjo.vansterpartiet.se
X-WR-CALDESC:Händelser för Vänsterpartiet Växjö
REFRESH-INTERVAL;VALUE=DURATION:PT1H
X-Robots-Tag:noindex
X-PUBLISHED-TTL:PT1H
BEGIN:VTIMEZONE
TZID:Europe/Stockholm
BEGIN:DAYLIGHT
TZOFFSETFROM:+0100
TZOFFSETTO:+0200
TZNAME:CEST
DTSTART:20240331T010000
END:DAYLIGHT
BEGIN:STANDARD
TZOFFSETFROM:+0200
TZOFFSETTO:+0100
TZNAME:CET
DTSTART:20241027T010000
END:STANDARD
BEGIN:DAYLIGHT
TZOFFSETFROM:+0100
TZOFFSETTO:+0200
TZNAME:CEST
DTSTART:20250330T010000
END:DAYLIGHT
BEGIN:STANDARD
TZOFFSETFROM:+0200
TZOFFSETTO:+0100
TZNAME:CET
DTSTART:20251026T010000
END:STANDARD
BEGIN:DAYLIGHT
TZOFFSETFROM:+0100
TZOFFSETTO:+0200
TZNAME:CEST
DTSTART:20260329T010000
END:DAYLIGHT
BEGIN:STANDARD
TZOFFSETFROM:+0200
TZOFFSETTO:+0100
TZNAME:CET
DTSTART:20261025T010000
END:STANDARD
BEGIN:DAYLIGHT
TZOFFSETFROM:+0100
TZOFFSETTO:+0200
TZNAME:CEST
DTSTART:20270328T010000
END:DAYLIGHT
BEGIN:STANDARD
TZOFFSETFROM:+0200
TZOFFSETTO:+0100
TZNAME:CET
DTSTART:20271031T010000
END:STANDARD
END:VTIMEZONE
BEGIN:VEVENT
DTSTART;TZID=Europe/Stockholm:20260210T120000
DTEND;TZID=Europe/Stockholm:20260210T130000
DTSTAMP:20260421T050522
CREATED:20260128T083925Z
LAST-MODIFIED:20260128T084154Z
UID:4115-1770724800-1770728400@vaxjo.vansterpartiet.se
SUMMARY:Lunchmanifestation i solidaritet med Palestina
DESCRIPTION:Röd cykel vid Speakers Corner.
URL:https://vaxjo.vansterpartiet.se/kalender/lunchmanifestation-i-solidaritet-med-palestina-2/
LOCATION:Speakers corner\, Storgatan 18\,\, Växjö\, 35233\, Sweden
END:VEVENT
BEGIN:VEVENT
DTSTART;TZID=Europe/Stockholm:20260209T180000
DTEND;TZID=Europe/Stockholm:20260209T200000
DTSTAMP:20260421T050522
CREATED:20260201T104000Z
LAST-MODIFIED:20260201T104000Z
UID:4131-1770660000-1770667200@vaxjo.vansterpartiet.se
SUMMARY:Kommunala gruppen sammanträder
DESCRIPTION:Digitalt möte med kommunala gruppen. Mötet är öppet för medlemmar efter anmälan till bjorn.kleinhenz@vaxjo.se
URL:https://vaxjo.vansterpartiet.se/kalender/kommunala-gruppen-sammantrader-16/
LOCATION:Digitalt möte
ORGANIZER;CN="Kommunala gruppen":MAILTO:bjorn.kleinhenz@vaxjo.se
END:VEVENT
BEGIN:VEVENT
DTSTART;TZID=Europe/Stockholm:20260208T100000
DTEND;TZID=Europe/Stockholm:20260208T160000
DTSTAMP:20260421T050522
CREATED:20260109T051817Z
LAST-MODIFIED:20260109T051817Z
UID:4089-1770544800-1770566400@vaxjo.vansterpartiet.se
SUMMARY:Valkonferens
DESCRIPTION:Ondagen den åttonde februari mellan 10.00 och 16.00 kommer vi att ha en valkonferens i Alvesta där ombud från alla partiföreningar kommer att vara med i fastställandet av listorna till region och riksdag inför valet. Vi i Växjös partiförening kommer att skicka 13 ombud\, 13 ersättare behöver också utses. Vi behöver några till ombud och flera ersättare\, skriv till vaxjo@vansterpartiet.se för att anmäla intresse. Partiföreningen Braås-Rottne skickar två ombud och utser två ersättare.
URL:https://vaxjo.vansterpartiet.se/kalender/valkonferens/
ORGANIZER;CN="V%C3%A4nsterpartiet Kronoberg":MAILTO:kronoberg@vansterpartiet.se
END:VEVENT
BEGIN:VEVENT
DTSTART;TZID=Europe/Stockholm:20260207T120000
DTEND;TZID=Europe/Stockholm:20260207T140000
DTSTAMP:20260421T050522
CREATED:20260128T084645Z
LAST-MODIFIED:20260128T084645Z
UID:4121-1770465600-1770472800@vaxjo.vansterpartiet.se
SUMMARY:Röd lördag
DESCRIPTION:Möt vänsterpartiet på Storgatan. Vi delar ut information och pratar med folk och bjuder på lite fika.
URL:https://vaxjo.vansterpartiet.se/kalender/rod-lordag-18/
LOCATION:Willans park\, Willans Park\, Växjö\, 352 30\, Sverige
END:VEVENT
BEGIN:VEVENT
DTSTART;TZID=Europe/Stockholm:20260203T120000
DTEND;TZID=Europe/Stockholm:20260203T130000
DTSTAMP:20260421T050522
CREATED:20260128T083746Z
LAST-MODIFIED:20260128T083746Z
UID:4113-1770120000-1770123600@vaxjo.vansterpartiet.se
SUMMARY:Lunchmanifestation i solidaritet med Palestina
DESCRIPTION:Röd cykel vid Speakers corner
URL:https://vaxjo.vansterpartiet.se/kalender/lunchmanifestation-i-solidaritet-med-palestina/
LOCATION:Speakers corner\, Storgatan 18\,\, Växjö\, 35233\, Sweden
END:VEVENT
BEGIN:VEVENT
DTSTART;TZID=Europe/Stockholm:20260131T180000
DTEND;TZID=Europe/Stockholm:20260131T180000
DTSTAMP:20260421T050522
CREATED:20260109T051443Z
LAST-MODIFIED:20260109T051443Z
UID:4087-1769882400-1769882400@vaxjo.vansterpartiet.se
SUMMARY:Kulturnatten på Bäckgatan
DESCRIPTION:Lördagen 31 januari är det dags för Kulturnatten i Växjö. Vi bjuder in till hålligång på Bäckgatan mellan 18 och ?\, mer info följer snart i ett sms!
URL:https://vaxjo.vansterpartiet.se/kalender/kulturnatten-pa-backgatan/
LOCATION:Bäckgatan 14\, Bäckgatan 14\, Växjö\, 352 41\, Sverige
END:VEVENT
BEGIN:VEVENT
DTSTART;TZID=Europe/Stockholm:20260128T180000
DTEND;TZID=Europe/Stockholm:20260128T200000
DTSTAMP:20260421T050522
CREATED:20260109T051133Z
LAST-MODIFIED:20260109T051133Z
UID:4085-1769623200-1769630400@vaxjo.vansterpartiet.se
SUMMARY:Quiz-kväll på Bullet Bar
DESCRIPTION:Quiz-kväll på Bullet bar. Sväng ihop ett lag och kom.
URL:https://vaxjo.vansterpartiet.se/kalender/quiz-kvall-pa-bullet-bar/
LOCATION:Bullet bar\, Sandgärdsgatan 17\, Växjö
END:VEVENT
BEGIN:VEVENT
DTSTART;TZID=Europe/Stockholm:20260128T170000
DTEND;TZID=Europe/Stockholm:20260128T180000
DTSTAMP:20260421T050522
CREATED:20260128T082658Z
LAST-MODIFIED:20260128T082658Z
UID:4108-1769619600-1769623200@vaxjo.vansterpartiet.se
SUMMARY:Nya medlemmar
DESCRIPTION:Medlemsmöte för nya medlemmar\nAlla välkomna!
URL:https://vaxjo.vansterpartiet.se/kalender/nya-medlemmar/
LOCATION:Bäckgatan 14\, Bäckgatan 14\, Växjö\, 352 41\, Sverige
END:VEVENT
BEGIN:VEVENT
DTSTART;TZID=Europe/Stockholm:20260119T180000
DTEND;TZID=Europe/Stockholm:20260119T200000
DTSTAMP:20260421T050522
CREATED:20260109T052326Z
LAST-MODIFIED:20260109T052326Z
UID:4093-1768845600-1768852800@vaxjo.vansterpartiet.se
SUMMARY:Kommunala gruppen sammanträder
DESCRIPTION:Skulle du som medlem\, ny eller inte\, vara intresserad av att få inblick i vår kommunala grupps arbete så kan du besöka gruppens möten. Du behöver bara höra av dig till gruppledaren innan på denna adress: bjorn.kleinhenz@vaxjo.se Nästa möte är måndagen 19/1 18.00 i Rottnesalen i Kommunhuset. Det är bra om vi vet att du tänkt komma så kan vi möta upp och släppa in.
URL:https://vaxjo.vansterpartiet.se/kalender/kommunala-gruppen-sammantrader-15/
LOCATION:Växjö kommunhus\, Norra Järnvägsgatan 7\, Växjö\, 35112
ORGANIZER;CN="Kommunala gruppen":MAILTO:bjorn.kleinhenz@vaxjo.se
END:VEVENT
BEGIN:VEVENT
DTSTART;TZID=Europe/Stockholm:20260117T120000
DTEND;TZID=Europe/Stockholm:20260117T140000
DTSTAMP:20260421T050522
CREATED:20260112T150022Z
LAST-MODIFIED:20260112T150022Z
UID:4101-1768651200-1768658400@vaxjo.vansterpartiet.se
SUMMARY:Röd cykel på Storgatan
DESCRIPTION:Möt Vänsterpartiet på Storgatan. Vi bjuder på kaffe och pratar gärna om hur Vänsterpartiet kan göra det bättre att leva i Växjö och Sverige.
URL:https://vaxjo.vansterpartiet.se/kalender/rod-cykel-pa-storgatan/
LOCATION:Storgatan\, Storgatan 22\, Växjö
END:VEVENT
BEGIN:VEVENT
DTSTART;TZID=Europe/Stockholm:20251220T120000
DTEND;TZID=Europe/Stockholm:20251220T140000
DTSTAMP:20260421T050522
CREATED:20251127T151006Z
LAST-MODIFIED:20251127T151006Z
UID:4062-1766232000-1766239200@vaxjo.vansterpartiet.se
SUMMARY:Röd lördag
DESCRIPTION:Du ser oss med den röda cykeln på Storgatan lördag 20/12. Kom gärna och ta en kopp kaffe och ställ lite frågor om vår fina politik. Väl mött Vänsterpartiet Braås/Rottne och Växjö.
URL:https://vaxjo.vansterpartiet.se/kalender/rod-lordag-17/
LOCATION:Speakers corner\, Storgatan 18\,\, Växjö\, 35233\, Sweden
END:VEVENT
BEGIN:VEVENT
DTSTART;TZID=Europe/Stockholm:20251215T180000
DTEND;TZID=Europe/Stockholm:20251215T200000
DTSTAMP:20260421T050522
CREATED:20251206T064325Z
LAST-MODIFIED:20251206T064325Z
UID:4075-1765821600-1765828800@vaxjo.vansterpartiet.se
SUMMARY:Medlemsmöte
DESCRIPTION:Måndagen den 15 dec kl. 18.00 är det medlemsmöte för att sätta den kommunala listan för Växjö kommun. Listan kommer mejlas ut några dagar innan mötet\, sedan kommer vi gemensamt rösta om listan. Varmt välkomna. Vi bjuder på fika.
URL:https://vaxjo.vansterpartiet.se/kalender/medlemsmote-5/
LOCATION:Bäckgatan 14\, Bäckgatan 14\, Växjö\, 352 41\, Sverige
END:VEVENT
BEGIN:VEVENT
DTSTART;TZID=Europe/Stockholm:20251213T120000
DTEND;TZID=Europe/Stockholm:20251213T140000
DTSTAMP:20260421T050522
CREATED:20251206T064043Z
LAST-MODIFIED:20251206T064043Z
UID:4073-1765627200-1765634400@vaxjo.vansterpartiet.se
SUMMARY:Luciahäng på Bäckgatan
DESCRIPTION:Lördagen den 13 dec kl. 12–14 kommer det vara ett hantverkshäng på Bäckgatan där man kan slöjda sin egen nyckelring eller armband. Kom förbi på lite glögg och pepparkaka!
URL:https://vaxjo.vansterpartiet.se/kalender/luciahang-pa-backgatan/
LOCATION:Bäckgatan 14\, Bäckgatan 14\, Växjö\, 352 41\, Sverige
END:VEVENT
BEGIN:VEVENT
DTSTART;TZID=Europe/Stockholm:20251206T120000
DTEND;TZID=Europe/Stockholm:20251206T140000
DTSTAMP:20260421T050522
CREATED:20251206T061745Z
LAST-MODIFIED:20251206T061745Z
UID:4069-1765022400-1765029600@vaxjo.vansterpartiet.se
SUMMARY:Vänsterpartiet på Storgatan
DESCRIPTION:Du ser oss med den röda cykeln på Storgatan företrädesvis vid Willans park. Kom gärna och ta en kopp kaffe och ställ lite frågor om vår fina politik. Väl mött Vänsterpartiet Braås/Rottne och Växjö.
URL:https://vaxjo.vansterpartiet.se/kalender/vansterpartiet-pa-storgatan/
LOCATION:Willans park\, Willans Park\, Växjö\, 352 30\, Sverige
ORGANIZER;CN="Kommunala gruppen":MAILTO:bjorn.kleinhenz@vaxjo.se
END:VEVENT
BEGIN:VEVENT
DTSTART;TZID=Europe/Stockholm:20251201T180000
DTEND;TZID=Europe/Stockholm:20251201T200000
DTSTAMP:20260421T050522
CREATED:20251105T075435Z
LAST-MODIFIED:20251105T075538Z
UID:4049-1764612000-1764619200@vaxjo.vansterpartiet.se
SUMMARY:Kommunala gruppen sammanträder
DESCRIPTION:Kommunala gruppen sammanträder digitalt på TEAMS. \nSammanträdet är öppet för medlemmar efter anmälan till bjorn.kleinhenz@vaxjo.se \n 
URL:https://vaxjo.vansterpartiet.se/kalender/kommunala-gruppen-sammantrader-14/
LOCATION:Digitalt möte
ORGANIZER;CN="Kommunala gruppen":MAILTO:bjorn.kleinhenz@vaxjo.se
END:VEVENT
BEGIN:VEVENT
DTSTART;TZID=Europe/Stockholm:20251129T120000
DTEND;TZID=Europe/Stockholm:20251129T140000
DTSTAMP:20260421T050522
CREATED:20251123T153936Z
LAST-MODIFIED:20251123T153936Z
UID:4055-1764417600-1764424800@vaxjo.vansterpartiet.se
SUMMARY:Röd lördag
DESCRIPTION:Du ser oss med den röda cykeln på storgatan lördag 29/11. Kom gärna och ta en kopp kaffe och ställ lite frågor om vår fina politik. \nVäl mött \nVänsterpartiet Braås/Rottne och Växjö.
URL:https://vaxjo.vansterpartiet.se/kalender/rod-lordag-16/
LOCATION:Speakers corner\, Storgatan 18\,\, Växjö\, 35233\, Sweden
END:VEVENT
BEGIN:VEVENT
DTSTART;TZID=Europe/Stockholm:20251129T120000
DTEND;TZID=Europe/Stockholm:20251129T140000
DTSTAMP:20260421T050522
CREATED:20251025T130247Z
LAST-MODIFIED:20251025T130247Z
UID:4041-1764417600-1764424800@vaxjo.vansterpartiet.se
SUMMARY:Öppet på Bäckgatan
DESCRIPTION:I dag är det öppet på partilokalen. Välkommen in så bjuder vi på fika. Prata gärna om viktiga saker med oss. Ni kan även bli medlemmar om ni inte redan är det. Vi behövs alla nu så ställ upp och var med. Aktivera er för VÄNSTERPARTIET.
URL:https://vaxjo.vansterpartiet.se/kalender/oppet-pa-backgatan-44/
LOCATION:Bäckgatan 14\, Bäckgatan 14\, Växjö\, 352 41\, Sverige
END:VEVENT
BEGIN:VEVENT
DTSTART;TZID=Europe/Stockholm:20251122T120000
DTEND;TZID=Europe/Stockholm:20251122T140000
DTSTAMP:20260421T050522
CREATED:20251025T130128Z
LAST-MODIFIED:20251025T130128Z
UID:4039-1763812800-1763820000@vaxjo.vansterpartiet.se
SUMMARY:Öppet på Bäckgatan
DESCRIPTION:I dag är det öppet på partilokalen. Välkommen in så bjuder vi på fika. Prata gärna om viktiga saker med oss. Ni kan även bli medlemmar om ni inte redan är det. Vi behövs alla nu så ställ upp och var med. Aktivera er för VÄNSTERPARTIET.
URL:https://vaxjo.vansterpartiet.se/kalender/oppet-pa-backgatan-43/
LOCATION:Bäckgatan 14\, Bäckgatan 14\, Växjö\, 352 41\, Sverige
END:VEVENT
BEGIN:VEVENT
DTSTART;TZID=Europe/Stockholm:20251119T170000
DTEND;TZID=Europe/Stockholm:20251119T190000
DTSTAMP:20260421T050522
CREATED:20251105T075951Z
LAST-MODIFIED:20251105T075951Z
UID:4051-1763571600-1763578800@vaxjo.vansterpartiet.se
SUMMARY:Styrelsemöte V Växjö
DESCRIPTION:Vänsterpartiet Växjö håller styrelsemöte på Bäckgatan 14. Mötet är öppet för medlemmar efter anmälan till sara.k.udd@gmail.com
URL:https://vaxjo.vansterpartiet.se/kalender/styrelsemote-v-vaxjo-6/
LOCATION:Bäckgatan 14\, Bäckgatan 14\, Växjö\, 352 41\, Sverige
ORGANIZER;CN="V%C3%A4nsterpartiet V%C3%A4xj%C3%B6":MAILTO:vaxjo@vansterpartiet.se
END:VEVENT
BEGIN:VEVENT
DTSTART;TZID=Europe/Stockholm:20251115T120000
DTEND;TZID=Europe/Stockholm:20251115T140000
DTSTAMP:20260421T050522
CREATED:20251025T130012Z
LAST-MODIFIED:20251025T130012Z
UID:4036-1763208000-1763215200@vaxjo.vansterpartiet.se
SUMMARY:Öppet på Bäckgatan
DESCRIPTION:I dag är det öppet på partilokalen. Välkommen in så bjuder vi på fika. Prata gärna om viktiga saker med oss. Ni kan även bli medlemmar om ni inte redan är det. Vi behövs alla nu så ställ upp och var med. Aktivera er för VÄNSTERPARTIET.
URL:https://vaxjo.vansterpartiet.se/kalender/oppet-pa-backgatan-42/
LOCATION:Bäckgatan 14\, Bäckgatan 14\, Växjö\, 352 41\, Sverige
END:VEVENT
BEGIN:VEVENT
DTSTART;TZID=Europe/Stockholm:20251108T120000
DTEND;TZID=Europe/Stockholm:20251108T140000
DTSTAMP:20260421T050522
CREATED:20251025T125839Z
LAST-MODIFIED:20251025T125839Z
UID:4033-1762603200-1762610400@vaxjo.vansterpartiet.se
SUMMARY:Öppet på Bäckgatan
DESCRIPTION:I dag är det öppet på partilokalen. Välkommen in så bjuder vi på fika. Prata gärna om viktiga saker med oss. Ni kan även bli medlemmar om ni inte redan är det. Vi behövs alla nu så ställ upp och var med. Aktivera er för VÄNSTERPARTIET.
URL:https://vaxjo.vansterpartiet.se/kalender/oppet-pa-backgatan-41/
LOCATION:Bäckgatan 14\, Bäckgatan 14\, Växjö\, 352 41\, Sverige
END:VEVENT
BEGIN:VEVENT
DTSTART;TZID=Europe/Stockholm:20251103T180000
DTEND;TZID=Europe/Stockholm:20251103T200000
DTSTAMP:20260421T050522
CREATED:20251102T165958Z
LAST-MODIFIED:20251102T165959Z
UID:4043-1762192800-1762200000@vaxjo.vansterpartiet.se
SUMMARY:Kvällsmöte på Bäckgatan
DESCRIPTION:Kvällsmöte 3/11 – Nu är det dags för arbetstidsförkortning!\nDen 3/11 kl 18:00 så får vi besök av riksdagsledamot Ciczie Weidby (V)! Ciczie är fackligt-politiskt ansvarig och arbetsmarknadspolitisk talesperson för Vänsterpartiet och jobbar hårt i riksdagen för att förbättra villkoren för Sveriges breda arbetarklass. Den här kvällen kommer hon till oss för att berätta om Vänsterpartiets arbete och vision för arbetstidsförkortning i hela Sverige och vi från regiongruppen kommer berätta om vårt lokala förslag för arbetstidsförkortning inom vården.\nSex timmars arbetsdag med bibehållen lön är fortfarande en nödvändighet och det är fortfarande vårt krav! \nDatum: 3/11Tid: 18:00-20:00Plats: Bäckgatan 14\, Växjö\nVälkomna – öppet för alla! PS – vi bjuder självklart på fika! \nVisa mindre\n\n\n\nVäxjö
URL:https://vaxjo.vansterpartiet.se/kalender/kvallsmote-pa-backgatan/
LOCATION:Bäckgatan 14\, Bäckgatan 14\, Växjö\, 352 41\, Sverige
ORGANIZER;CN="V%C3%A4nsterpartiet Kronoberg":MAILTO:kronoberg@vansterpartiet.se
END:VEVENT
BEGIN:VEVENT
DTSTART;TZID=Europe/Stockholm:20251101T120000
DTEND;TZID=Europe/Stockholm:20251101T140000
DTSTAMP:20260421T050522
CREATED:20251025T111239Z
LAST-MODIFIED:20251025T111239Z
UID:4031-1761998400-1762005600@vaxjo.vansterpartiet.se
SUMMARY:Öppet på Bäckgatan
DESCRIPTION:I dag är det öppet på partilokalen. Välkommen in så bjuder vi på fika. Prata gärna om viktiga saker med oss. Ni kan även bli medlemmar om ni inte redan är det. Vi behövs alla nu så ställ upp och var med. Aktivera er för VÄNSTERPARTIET.
URL:https://vaxjo.vansterpartiet.se/kalender/oppet-pa-backgatan-40/
LOCATION:Bäckgatan 14\, Bäckgatan 14\, Växjö\, 352 41\, Sverige
END:VEVENT
BEGIN:VEVENT
DTSTART;TZID=Europe/Stockholm:20251101T120000
DTEND;TZID=Europe/Stockholm:20251101T140000
DTSTAMP:20260421T050522
CREATED:20250908T065935Z
LAST-MODIFIED:20250908T065935Z
UID:3979-1761998400-1762005600@vaxjo.vansterpartiet.se
SUMMARY:Öppet på Bäckgatan
DESCRIPTION:I dag är det öppet på partilokalen. Välkommen in så bjuder vi på fika. Prata gärna om viktiga saker med oss. Ni kan även bli medlemmar om ni inte redan är det. Vi behövs alla nu så ställ upp och var med. Aktivera er för VÄNSTERPARTIET.
URL:https://vaxjo.vansterpartiet.se/kalender/oppet-pa-backgatan-39/
LOCATION:Bäckgatan 14\, Bäckgatan 14\, Växjö\, 352 41\, Sverige
END:VEVENT
BEGIN:VEVENT
DTSTART;TZID=Europe/Stockholm:20251027T180000
DTEND;TZID=Europe/Stockholm:20251027T200000
DTSTAMP:20260421T050522
CREATED:20251007T062418Z
LAST-MODIFIED:20251007T062418Z
UID:4013-1761588000-1761595200@vaxjo.vansterpartiet.se
SUMMARY:Kommunala gruppen sammanträder
DESCRIPTION:Kommunala gruppen sammanträder digitalt. Sammanträdet är öppet för medlemmar efter anmälan till bjorn.kleinhenz@vaxjo.se
URL:https://vaxjo.vansterpartiet.se/kalender/kommunala-gruppen-sammantrader-13/
LOCATION:Digitalt möte
ORGANIZER;CN="Kommunala gruppen":MAILTO:bjorn.kleinhenz@vaxjo.se
END:VEVENT
BEGIN:VEVENT
DTSTART;TZID=Europe/Stockholm:20251025T120000
DTEND;TZID=Europe/Stockholm:20251025T140000
DTSTAMP:20260421T050522
CREATED:20250908T065832Z
LAST-MODIFIED:20250908T065832Z
UID:3977-1761393600-1761400800@vaxjo.vansterpartiet.se
SUMMARY:Öppet på Bäckgatan
DESCRIPTION:I dag är det öppet på partilokalen. Välkommen in så bjuder vi på fika. Prata gärna om viktiga saker med oss. Ni kan även bli medlemmar om ni inte redan är det. Vi behövs alla nu så ställ upp och var med. Aktivera er för VÄNSTERPARTIET.
URL:https://vaxjo.vansterpartiet.se/kalender/oppet-pa-backgatan-38/
LOCATION:Bäckgatan 14\, Bäckgatan 14\, Växjö\, 352 41\, Sverige
END:VEVENT
BEGIN:VEVENT
DTSTART;TZID=Europe/Stockholm:20251023T173000
DTEND;TZID=Europe/Stockholm:20251023T200000
DTSTAMP:20260421T050522
CREATED:20251007T060515Z
LAST-MODIFIED:20251010T172110Z
UID:4008-1761240600-1761249600@vaxjo.vansterpartiet.se
SUMMARY:Bananrepubliken Sverige
DESCRIPTION:23 oktober kl. 17.30\, kommer Johannes Klenell till Växjö stadsbibliotek och föreläser utifrån sin bok Bananrepubliken Sverige där han sätter ljuset på svängdörrarna mellan politiken och ”välfärdsföretagen”. Efter det så finns det möjlighet att mötas upp och diskutera föreläsningen\, och därefter formera en bokcirkel. Det kommer finnas ett par inköpta exemplar av Johannes bok\, blir intresset stort så kanske vi köper in fler. Observera\, man behöver anmäla sig på Stadsbibliotekets hemsida för att delta på föreläsningen! Evenemanget är gratis men biljett krävs. Det är ofta fullsatt i Galaxen och har man inte biljett så finns risk att man inte kommer in.
URL:https://vaxjo.vansterpartiet.se/kalender/bananrepubliken-sverige/
LOCATION:Växjö Stadsbibliotek\, Västra Esplanaden 7\, Växjö\, 35231\, Sverige
END:VEVENT
BEGIN:VEVENT
DTSTART;TZID=Europe/Stockholm:20251022T173000
DTEND;TZID=Europe/Stockholm:20251022T200000
DTSTAMP:20260421T050522
CREATED:20251007T055529Z
LAST-MODIFIED:20251007T055529Z
UID:4006-1761154200-1761163200@vaxjo.vansterpartiet.se
SUMMARY:Rörelsesocialism-tjugosju teser om samhällsförändring underifrån
DESCRIPTION:Den 22 oktober kl. 17.30 kommer Toivo Jokkala till Bäckgatan 14 och föreläser utifrån sin bok Rörelsesocialism – tjugosju teser om samhällsförändring underifrån. Toivo är journalist\, skribent och tidigare chefredaktör på tidningen arbetaren. Boken kommer under hösten även att användas i en bokcirkel. \nVarmt välkomna!
URL:https://vaxjo.vansterpartiet.se/kalender/rorelsesocialism-tjugosju-teser-om-samhallsforandring-underifran/
LOCATION:Bäckgatan 14\, Bäckgatan 14\, Växjö\, 352 41\, Sverige
END:VEVENT
BEGIN:VEVENT
DTSTART;TZID=Europe/Stockholm:20251022T170000
DTEND;TZID=Europe/Stockholm:20251022T191500
DTSTAMP:20260421T050522
CREATED:20251003T073726Z
LAST-MODIFIED:20251003T073726Z
UID:4001-1761152400-1761160500@vaxjo.vansterpartiet.se
SUMMARY:V Växjö styrelsemöte
DESCRIPTION:V Växjö sammanträder 22/10 kl 17:00-19:15 hos Sara. Mötet är öppet för medlemmar efter anmälan till sara.udd@vaxjo.se
URL:https://vaxjo.vansterpartiet.se/kalender/v-vaxjo-styrelsemote/
ORGANIZER;CN="V%C3%A4nsterpartiet V%C3%A4xj%C3%B6":MAILTO:vaxjo@vansterpartiet.se
END:VEVENT
BEGIN:VEVENT
DTSTART;TZID=Europe/Stockholm:20251020T180000
DTEND;TZID=Europe/Stockholm:20251020T200000
DTSTAMP:20260421T050522
CREATED:20251007T054122Z
LAST-MODIFIED:20251007T054122Z
UID:4003-1760983200-1760990400@vaxjo.vansterpartiet.se
SUMMARY:Medlemsmöte V Växjö V Braås Rottne
DESCRIPTION:Just nu sitter Vänsterpartiets fantastiska representanter och förhandlar budgeten tillsammans med samarbetspartierna Socialdemokraterna och Miljöpartiet. Måndag den 20 oktober kl. 18.00 kommer den att presenteras under ett medlemsmöte på Bäckgatan 14. Det kommer finnas fika och plats för diskussioner. \nVälkomna !
URL:https://vaxjo.vansterpartiet.se/kalender/medlemsmote-v-vaxjo-v-braas-rottne/
LOCATION:Bäckgatan 14\, Bäckgatan 14\, Växjö\, 352 41\, Sverige
END:VEVENT
END:VCALENDAR