BEGIN:VCALENDAR
VERSION:2.0
PRODID:-//Vänsterpartiet Växjö - ECPv6.15.17.1//NONSGML v1.0//EN
CALSCALE:GREGORIAN
METHOD:PUBLISH
X-WR-CALNAME:Vänsterpartiet Växjö
X-ORIGINAL-URL:https://vaxjo.vansterpartiet.se
X-WR-CALDESC:Händelser för Vänsterpartiet Växjö
REFRESH-INTERVAL;VALUE=DURATION:PT1H
X-Robots-Tag:noindex
X-PUBLISHED-TTL:PT1H
BEGIN:VTIMEZONE
TZID:Europe/Stockholm
BEGIN:DAYLIGHT
TZOFFSETFROM:+0100
TZOFFSETTO:+0200
TZNAME:CEST
DTSTART:20230326T010000
END:DAYLIGHT
BEGIN:STANDARD
TZOFFSETFROM:+0200
TZOFFSETTO:+0100
TZNAME:CET
DTSTART:20231029T010000
END:STANDARD
BEGIN:DAYLIGHT
TZOFFSETFROM:+0100
TZOFFSETTO:+0200
TZNAME:CEST
DTSTART:20240331T010000
END:DAYLIGHT
BEGIN:STANDARD
TZOFFSETFROM:+0200
TZOFFSETTO:+0100
TZNAME:CET
DTSTART:20241027T010000
END:STANDARD
BEGIN:DAYLIGHT
TZOFFSETFROM:+0100
TZOFFSETTO:+0200
TZNAME:CEST
DTSTART:20250330T010000
END:DAYLIGHT
BEGIN:STANDARD
TZOFFSETFROM:+0200
TZOFFSETTO:+0100
TZNAME:CET
DTSTART:20251026T010000
END:STANDARD
END:VTIMEZONE
BEGIN:VEVENT
DTSTART;TZID=Europe/Stockholm:20240510T110000
DTEND;TZID=Europe/Stockholm:20240510T180000
DTSTAMP:20260421T223457
CREATED:20240505T120721Z
LAST-MODIFIED:20240505T120721Z
UID:3482-1715338800-1715364000@vaxjo.vansterpartiet.se
SUMMARY:Valrörelsen på Storgatan
DESCRIPTION:Vi ses på Valytan på Storgatan 22. \nVi delar ut valmaterial och samtalar med folk.
URL:https://vaxjo.vansterpartiet.se/kalender/valrorelsen-pa-storgatan/
LOCATION:Storgatan\, Storgatan 22\, Växjö
END:VEVENT
BEGIN:VEVENT
DTSTART;TZID=Europe/Stockholm:20240509T110000
DTEND;TZID=Europe/Stockholm:20240509T180000
DTSTAMP:20260421T223457
CREATED:20240505T120531Z
LAST-MODIFIED:20240505T120531Z
UID:3480-1715252400-1715277600@vaxjo.vansterpartiet.se
SUMMARY:Valrörelse på Storgatan
DESCRIPTION:Vi ses på Valytan på Storgatan 22. \nVi delar ut valmaterial och samtalar med folk.
URL:https://vaxjo.vansterpartiet.se/kalender/valrorelse-pa-storgatan/
LOCATION:Storgatan\, Storgatan 22\, Växjö
END:VEVENT
BEGIN:VEVENT
DTSTART;TZID=Europe/Stockholm:20240508T180000
DTEND;TZID=Europe/Stockholm:20240508T180000
DTSTAMP:20260421T223457
CREATED:20240407T060425Z
LAST-MODIFIED:20240407T060425Z
UID:3420-1715191200-1715191200@vaxjo.vansterpartiet.se
SUMMARY:Pridekväll på Bäckgatan
DESCRIPTION:Välkomna till Bäckgatan för en helkväll av aktiviteter!\nPinverkstad\nTillsammans med Ung Vänster och Vänsterstudenterna LNU bjuder vi in till pinverkstad där du kan göra din egen pin med precis det budskap du behöver.\nPride-musikquiz\nSom traditionen bjuder håller vår käre Samuel Schelin i klurigt och roligt musikquiz\, i år med Abba-tema. Inte missa!\nFör allas rätt att vara den en är och älska den en vill!
URL:https://vaxjo.vansterpartiet.se/kalender/pridekvall-pa-backgatan/
LOCATION:Bäckgatan 14\, Bäckgatan 14\, Växjö\, 352 41\, Sverige
END:VEVENT
BEGIN:VEVENT
DTSTART;TZID=Europe/Stockholm:20240508T110000
DTEND;TZID=Europe/Stockholm:20240508T180000
DTSTAMP:20260421T223457
CREATED:20240505T120154Z
LAST-MODIFIED:20240505T120154Z
UID:3478-1715166000-1715191200@vaxjo.vansterpartiet.se
SUMMARY:EU-valrörelsen börjar
DESCRIPTION:Vi ses på Valytan på Storgatan 22. \nVi delar ut valmaterial och samtalar med folk.
URL:https://vaxjo.vansterpartiet.se/kalender/eu-valrorelsen-borjar/
LOCATION:Storgatan\, Storgatan 22\, Växjö
END:VEVENT
BEGIN:VEVENT
DTSTART;TZID=Europe/Stockholm:20240506T170000
DTEND;TZID=Europe/Stockholm:20240506T190000
DTSTAMP:20260421T223457
CREATED:20240410T083256Z
LAST-MODIFIED:20240410T083256Z
UID:3435-1715014800-1715022000@vaxjo.vansterpartiet.se
SUMMARY:Styrelsemöte Vänsterpartiet Växjö
DESCRIPTION:Styrelsemöte för Vänsterpartiet Växjö. \nMötena är öppet för medlemmar. Anmälan till pernilla.ramström@vaxjo.se \n 
URL:https://vaxjo.vansterpartiet.se/kalender/styrelsemote-vansterpartiet-vaxjo-6/
LOCATION:Bäckgatan 14\, Bäckgatan 14\, Växjö\, 352 41\, Sverige
ORGANIZER;CN="V%C3%A4nsterpartiet V%C3%A4xj%C3%B6":MAILTO:vaxjo@vansterpartiet.se
END:VEVENT
BEGIN:VEVENT
DTSTART;TZID=Europe/Stockholm:20240501T130000
DTEND;TZID=Europe/Stockholm:20240501T130000
DTSTAMP:20260421T223457
CREATED:20240323T184424Z
LAST-MODIFIED:20240427T161941Z
UID:3395-1714568400-1714568400@vaxjo.vansterpartiet.se
SUMMARY:Första maj
DESCRIPTION:Häng med och fira arbetarnas dag. Flammans kulturredaktör Paulina Sokolow och Maria Garmer talar och Ada Hectors band underhåller på IOGT. Tåget går från Speakers Corner kl. 13:00. \nAlla välkomna!
URL:https://vaxjo.vansterpartiet.se/kalender/forsta-maj/
LOCATION:Vattentorget\, Vattentorget 1\, Växjö\, 35234\, Sverige
END:VEVENT
BEGIN:VEVENT
DTSTART;TZID=Europe/Stockholm:20240429T180000
DTEND;TZID=Europe/Stockholm:20240429T200000
DTSTAMP:20260421T223457
CREATED:20240410T091442Z
LAST-MODIFIED:20240410T091442Z
UID:3439-1714413600-1714420800@vaxjo.vansterpartiet.se
SUMMARY:Kommunala gruppen sammanträder
DESCRIPTION:OBS! Digitalt möte. Alla kommunala gruppens möten är öppna för Dig som medlem. Vartannat möte är digitalt på Teams och vartannat hålls på plan 3 i Växjös kommunhus.\nÄr du nyfiken på kommunala gruppens arbete? Kontakta Björn Kleinhenz på bjorn.kleinhenz@vaxjo.se för information och länk för de möten som är digitala.
URL:https://vaxjo.vansterpartiet.se/kalender/kommunala-gruppen-sammantrader-8/
LOCATION:Digitalt möte\, Anmäl dig till mötet genom att skicka ett mail till bjorn.kleinhenz@vaxjo.se
ORGANIZER;CN="Kommunala gruppen":MAILTO:bjorn.kleinhenz@vaxjo.se
END:VEVENT
BEGIN:VEVENT
DTSTART;TZID=Europe/Stockholm:20240427T110000
DTEND;TZID=Europe/Stockholm:20240427T130000
DTSTAMP:20260421T223457
CREATED:20240403T145034Z
LAST-MODIFIED:20240403T145034Z
UID:3418-1714215600-1714222800@vaxjo.vansterpartiet.se
SUMMARY:Röd lördag
DESCRIPTION:Möta människor på Storgatan\, intressanta samtal\, dela ut flygblad.
URL:https://vaxjo.vansterpartiet.se/kalender/rod-lordag-7/
LOCATION:Willans park\, Willans Park\, Växjö\, 352 30\, Sverige
END:VEVENT
BEGIN:VEVENT
DTSTART;TZID=Europe/Stockholm:20240427T110000
DTEND;TZID=Europe/Stockholm:20240427T130000
DTSTAMP:20260421T223457
CREATED:20240403T144511Z
LAST-MODIFIED:20240403T144511Z
UID:3415-1714215600-1714222800@vaxjo.vansterpartiet.se
SUMMARY:Öppet på Bäckgatan 14
DESCRIPTION:Hålla lokalen öppen för allmänheten\, bjuda på fika och föra intressanta samtal.
URL:https://vaxjo.vansterpartiet.se/kalender/oppet-pa-backgatan-14-55/
LOCATION:Bäckgatan 14\, Bäckgatan 14\, Växjö\, 352 41\, Sverige
END:VEVENT
BEGIN:VEVENT
DTSTART;TZID=Europe/Stockholm:20240424T173000
DTEND;TZID=Europe/Stockholm:20240424T200000
DTSTAMP:20260421T223457
CREATED:20240407T060726Z
LAST-MODIFIED:20240407T060726Z
UID:3422-1713979800-1713988800@vaxjo.vansterpartiet.se
SUMMARY:Plakatverkstad
DESCRIPTION:Vi samlas för att göra fina plakat och banderoller som vi skall bära i årets förstamajtåg. \nVälkomna.
URL:https://vaxjo.vansterpartiet.se/kalender/plakatverkstad/
LOCATION:Bäckgatan 14\, Bäckgatan 14\, Växjö\, 352 41\, Sverige
END:VEVENT
BEGIN:VEVENT
DTSTART;TZID=Europe/Stockholm:20240424T110000
DTEND;TZID=Europe/Stockholm:20240424T150000
DTSTAMP:20260421T223457
CREATED:20240403T144308Z
LAST-MODIFIED:20240403T144308Z
UID:3413-1713956400-1713970800@vaxjo.vansterpartiet.se
SUMMARY:Öppet på Bäckgatan 14
DESCRIPTION:Hålla lokalen öppen för allmänheten\, bjuda på fika och föra intressanta samtal.
URL:https://vaxjo.vansterpartiet.se/kalender/oppet-pa-backgatan-14-54/
LOCATION:Bäckgatan 14\, Bäckgatan 14\, Växjö\, 352 41\, Sverige
END:VEVENT
BEGIN:VEVENT
DTSTART;TZID=Europe/Stockholm:20240422T173000
DTEND;TZID=Europe/Stockholm:20240422T200000
DTSTAMP:20260421T223457
CREATED:20240323T183810Z
LAST-MODIFIED:20240323T183810Z
UID:3393-1713807000-1713816000@vaxjo.vansterpartiet.se
SUMMARY:Medlemsmöte
DESCRIPTION:Medlemsmöte inför kongress. \nVälkomna till Bäckgatan.
URL:https://vaxjo.vansterpartiet.se/kalender/medlemsmote-3/
LOCATION:Bäckgatan 14\, Bäckgatan 14\, Växjö\, 352 41\, Sverige
ORGANIZER;CN="V%C3%A4nsterpartiet V%C3%A4xj%C3%B6":MAILTO:vaxjo@vansterpartiet.se
END:VEVENT
BEGIN:VEVENT
DTSTART;TZID=Europe/Stockholm:20240420T110000
DTEND;TZID=Europe/Stockholm:20240420T130000
DTSTAMP:20260421T223457
CREATED:20240403T144155Z
LAST-MODIFIED:20240403T144155Z
UID:3411-1713610800-1713618000@vaxjo.vansterpartiet.se
SUMMARY:Öppet på Bäckgatan 14
DESCRIPTION:Hålla lokalen öppen för allmänheten\, bjuda på fika och föra intressanta samtal.
URL:https://vaxjo.vansterpartiet.se/kalender/oppet-pa-backgatan-14-53/
LOCATION:Bäckgatan 14\, Bäckgatan 14\, Växjö\, 352 41\, Sverige
END:VEVENT
BEGIN:VEVENT
DTSTART;TZID=Europe/Stockholm:20240417T110000
DTEND;TZID=Europe/Stockholm:20240417T150000
DTSTAMP:20260421T223457
CREATED:20240403T144044Z
LAST-MODIFIED:20240403T144044Z
UID:3409-1713351600-1713366000@vaxjo.vansterpartiet.se
SUMMARY:Öppet på Bäckgatan 14
DESCRIPTION:Hålla lokalen öppen för allmänheten\, bjuda på fika och föra intressanta samtal.
URL:https://vaxjo.vansterpartiet.se/kalender/oppet-pa-backgatan-14-52/
LOCATION:Bäckgatan 14\, Bäckgatan 14\, Växjö\, 352 41\, Sverige
END:VEVENT
BEGIN:VEVENT
DTSTART;TZID=Europe/Stockholm:20240413T110000
DTEND;TZID=Europe/Stockholm:20240413T130000
DTSTAMP:20260421T223457
CREATED:20240403T143900Z
LAST-MODIFIED:20240403T143900Z
UID:3407-1713006000-1713013200@vaxjo.vansterpartiet.se
SUMMARY:Öppet på Bäckgatan 14
DESCRIPTION:Hålla lokalen öppen för allmänheten\, bjuda på fika och föra intressanta samtal.
URL:https://vaxjo.vansterpartiet.se/kalender/oppet-pa-backgatan-14-51/
LOCATION:Bäckgatan 14\, Bäckgatan 14\, Växjö\, 352 41\, Sverige
END:VEVENT
BEGIN:VEVENT
DTSTART;TZID=Europe/Stockholm:20240410T110000
DTEND;TZID=Europe/Stockholm:20240410T150000
DTSTAMP:20260421T223457
CREATED:20240322T161847Z
LAST-MODIFIED:20240322T161847Z
UID:3391-1712746800-1712761200@vaxjo.vansterpartiet.se
SUMMARY:Öppet på Bäckgatan 14
DESCRIPTION:Hålla lokalen öppen för allmänheten\, bjuda på fika och föra intressanta samtal.
URL:https://vaxjo.vansterpartiet.se/kalender/oppet-pa-backgatan-14-50/
LOCATION:Bäckgatan 14\, Bäckgatan 14\, Växjö\, 352 41\, Sverige
END:VEVENT
BEGIN:VEVENT
DTSTART;TZID=Europe/Stockholm:20240409T170000
DTEND;TZID=Europe/Stockholm:20240409T193000
DTSTAMP:20260421T223457
CREATED:20240322T161305Z
LAST-MODIFIED:20240322T161305Z
UID:3385-1712682000-1712691000@vaxjo.vansterpartiet.se
SUMMARY:Styrelsemöte Vänsterpartiet Växjö
DESCRIPTION:Välkomna till styrelsemöte på Bäckgatan. Våra styrelsemöten är öppna för våra medlemmar så kom gärna och kolla vad vi gör. För information och anmälan kontakta ordförande pernilla.ramström@vaxjo.se
URL:https://vaxjo.vansterpartiet.se/kalender/styrelsemote-vansterpartiet-vaxjo-5/
LOCATION:Bäckgatan 14\, Bäckgatan 14\, Växjö\, 352 41\, Sverige
ORGANIZER;CN="V%C3%A4nsterpartiet V%C3%A4xj%C3%B6":MAILTO:vaxjo@vansterpartiet.se
END:VEVENT
BEGIN:VEVENT
DTSTART;TZID=Europe/Stockholm:20240408T180000
DTEND;TZID=Europe/Stockholm:20240408T200000
DTSTAMP:20260421T223457
CREATED:20240321T195159Z
LAST-MODIFIED:20240321T195159Z
UID:3379-1712599200-1712606400@vaxjo.vansterpartiet.se
SUMMARY:Kommunala gruppen sammanträder
DESCRIPTION:OBS: Digitalt möte på Teams \nAlla kommunala gruppens möten är öppna för Dig som medlem. Vartannat möte är digitalt på Teams och vartannat hålls på plan 3 i Växjös kommunhus.\nÄr du nyfiken på kommunala gruppens arbete? Kontakta Björn Kleinhenz på bjorn.kleinhenz@vaxjo.se för information och länk för de möten som är digitala.
URL:https://vaxjo.vansterpartiet.se/kalender/kommunala-gruppen-sammantrader-2/
LOCATION:Digitalt möte\, Anmäl dig till mötet genom att skicka ett mail till bjorn.kleinhenz@vaxjo.se
ORGANIZER;CN="Kommunala gruppen":MAILTO:bjorn.kleinhenz@vaxjo.se
END:VEVENT
BEGIN:VEVENT
DTSTART;TZID=Europe/Stockholm:20240406T110000
DTEND;TZID=Europe/Stockholm:20240406T130000
DTSTAMP:20260421T223457
CREATED:20240322T161735Z
LAST-MODIFIED:20240322T161735Z
UID:3389-1712401200-1712408400@vaxjo.vansterpartiet.se
SUMMARY:Öppet på Bäckgatan 14
DESCRIPTION:Hålla lokalen öppen för allmänheten\, bjuda på fika och föra intressanta samtal.
URL:https://vaxjo.vansterpartiet.se/kalender/oppet-pa-backgatan-14-49/
LOCATION:Bäckgatan 14\, Bäckgatan 14\, Växjö\, 352 41\, Sverige
END:VEVENT
BEGIN:VEVENT
DTSTART;TZID=Europe/Stockholm:20240403T110000
DTEND;TZID=Europe/Stockholm:20240403T150000
DTSTAMP:20260421T223457
CREATED:20240322T161553Z
LAST-MODIFIED:20240322T161553Z
UID:3387-1712142000-1712156400@vaxjo.vansterpartiet.se
SUMMARY:Öppet på Bäckgatan 14
DESCRIPTION:Hålla lokalen öppen för allmänheten\, bjuda på fika och föra intressanta samtal.
URL:https://vaxjo.vansterpartiet.se/kalender/oppet-pa-backgatan-14-48/
LOCATION:Bäckgatan 14\, Bäckgatan 14\, Växjö\, 352 41\, Sverige
END:VEVENT
BEGIN:VEVENT
DTSTART;TZID=Europe/Stockholm:20240327T110000
DTEND;TZID=Europe/Stockholm:20240327T150000
DTSTAMP:20260421T223457
CREATED:20240318T092815Z
LAST-MODIFIED:20240318T092815Z
UID:3366-1711537200-1711551600@vaxjo.vansterpartiet.se
SUMMARY:Öppet på Bäckgatan 14
DESCRIPTION:Hålla lokalen öppen för allmänheten\, bjuda på fika och föra intressanta samtal.
URL:https://vaxjo.vansterpartiet.se/kalender/oppet-pa-backgatan-14-47/
LOCATION:Bäckgatan 14\, Bäckgatan 14\, Växjö\, 352 41\, Sverige
END:VEVENT
BEGIN:VEVENT
DTSTART;TZID=Europe/Stockholm:20240323T110000
DTEND;TZID=Europe/Stockholm:20240323T130000
DTSTAMP:20260421T223457
CREATED:20240318T093655Z
LAST-MODIFIED:20240318T093655Z
UID:3371-1711191600-1711198800@vaxjo.vansterpartiet.se
SUMMARY:Röd lördag
DESCRIPTION:Vi samlas på Willans Park och delar ut kommunnytt\, flygblad och samtalar med folk.
URL:https://vaxjo.vansterpartiet.se/kalender/rod-lordag-6/
LOCATION:Willans park\, Willans Park\, Växjö\, 352 30\, Sverige
END:VEVENT
BEGIN:VEVENT
DTSTART;TZID=Europe/Stockholm:20240323T110000
DTEND;TZID=Europe/Stockholm:20240323T130000
DTSTAMP:20260421T223457
CREATED:20240304T062300Z
LAST-MODIFIED:20240304T062300Z
UID:3363-1711191600-1711198800@vaxjo.vansterpartiet.se
SUMMARY:Öppet på Bäckgatan 14
DESCRIPTION:Hålla lokalen öppen för allmänheten\, bjuda på fika och föra intressanta samtal.
URL:https://vaxjo.vansterpartiet.se/kalender/oppet-pa-backgatan-14-46/
LOCATION:Bäckgatan 14\, Bäckgatan 14\, Växjö\, 352 41\, Sverige
END:VEVENT
BEGIN:VEVENT
DTSTART;TZID=Europe/Stockholm:20240320T110000
DTEND;TZID=Europe/Stockholm:20240320T150000
DTSTAMP:20260421T223457
CREATED:20240304T062141Z
LAST-MODIFIED:20240304T062141Z
UID:3361-1710932400-1710946800@vaxjo.vansterpartiet.se
SUMMARY:Öppet på Bäckgatan 14
DESCRIPTION:Hålla lokalen öppen för allmänheten\, bjuda på fika och föra intressanta samtal.
URL:https://vaxjo.vansterpartiet.se/kalender/oppet-pa-backgatan-14-45/
LOCATION:Bäckgatan 14\, Bäckgatan 14\, Växjö\, 352 41\, Sverige
END:VEVENT
BEGIN:VEVENT
DTSTART;TZID=Europe/Stockholm:20240316T110000
DTEND;TZID=Europe/Stockholm:20240316T130000
DTSTAMP:20260421T223457
CREATED:20240304T061201Z
LAST-MODIFIED:20240304T061201Z
UID:3359-1710586800-1710594000@vaxjo.vansterpartiet.se
SUMMARY:Öppet på Bäckgatan 14
DESCRIPTION:Hålla lokalen öppen för allmänheten\, bjuda på fika och föra intressanta samtal.
URL:https://vaxjo.vansterpartiet.se/kalender/oppet-pa-backgatan-14-44/
LOCATION:Bäckgatan 14\, Bäckgatan 14\, Växjö\, 352 41\, Sverige
END:VEVENT
BEGIN:VEVENT
DTSTART;TZID=Europe/Stockholm:20240315T170000
DTEND;TZID=Europe/Stockholm:20240315T190000
DTSTAMP:20260421T223457
CREATED:20240219T202518Z
LAST-MODIFIED:20240219T202518Z
UID:3338-1710522000-1710529200@vaxjo.vansterpartiet.se
SUMMARY:Styrelsemöte Växjö partiförening
DESCRIPTION:Mötet är öppet för medlemmar så välkomna om ni är intresserade. \nFör frågor maila Pernilla pernilla.ramstrom@vaxjo.se
URL:https://vaxjo.vansterpartiet.se/kalender/styrelsemote-vaxjo-partiforening/
LOCATION:Bäckgatan 14\, Bäckgatan 14\, Växjö\, 352 41\, Sverige
ORGANIZER;CN="V%C3%A4nsterpartiet V%C3%A4xj%C3%B6":MAILTO:vaxjo@vansterpartiet.se
END:VEVENT
BEGIN:VEVENT
DTSTART;TZID=Europe/Stockholm:20240313T110000
DTEND;TZID=Europe/Stockholm:20240313T150000
DTSTAMP:20260421T223457
CREATED:20240304T060940Z
LAST-MODIFIED:20240304T060940Z
UID:3357-1710327600-1710342000@vaxjo.vansterpartiet.se
SUMMARY:Öppet på Bäckgatan 14
DESCRIPTION:Hålla lokalen öppen för allmänheten\, bjuda på fika och föra intressanta samtal.
URL:https://vaxjo.vansterpartiet.se/kalender/oppet-pa-backgatan-14-43/
LOCATION:Bäckgatan 14\, Bäckgatan 14\, Växjö\, 352 41\, Sverige
END:VEVENT
BEGIN:VEVENT
DTSTART;TZID=Europe/Stockholm:20240309T110000
DTEND;TZID=Europe/Stockholm:20240309T130000
DTSTAMP:20260421T223457
CREATED:20240304T060731Z
LAST-MODIFIED:20240304T060731Z
UID:3355-1709982000-1709989200@vaxjo.vansterpartiet.se
SUMMARY:Öppet på Bäckgatan 14
DESCRIPTION:Hålla lokalen öppen för allmänheten\, bjuda på fika och föra intressanta samtal.
URL:https://vaxjo.vansterpartiet.se/kalender/oppet-pa-backgatan-14-42/
LOCATION:Bäckgatan 14\, Bäckgatan 14\, Växjö\, 352 41\, Sverige
END:VEVENT
BEGIN:VEVENT
DTSTART;TZID=Europe/Stockholm:20240308T180000
DTEND;TZID=Europe/Stockholm:20240308T203000
DTSTAMP:20260421T223457
CREATED:20240224T131149Z
LAST-MODIFIED:20240224T131149Z
UID:3349-1709920800-1709929800@vaxjo.vansterpartiet.se
SUMMARY:Internationella Kvinnodagen
DESCRIPTION:Välkomna till Bäckgatan 14\, den åttonde mars\, och fira alla världens kvinnor.
URL:https://vaxjo.vansterpartiet.se/kalender/internationella-kvinnodagen/
LOCATION:Bäckgatan 14\, Bäckgatan 14\, Växjö\, 352 41\, Sverige
END:VEVENT
BEGIN:VEVENT
DTSTART;TZID=Europe/Stockholm:20240306T110000
DTEND;TZID=Europe/Stockholm:20240306T150000
DTSTAMP:20260421T223457
CREATED:20240224T130512Z
LAST-MODIFIED:20240224T130512Z
UID:3347-1709722800-1709737200@vaxjo.vansterpartiet.se
SUMMARY:Öppet på Bäckgatan 14
DESCRIPTION:Hålla lokalen öppen för allmänheten\, bjuda på fika och föra intressanta samtal.
URL:https://vaxjo.vansterpartiet.se/kalender/oppet-pa-backgatan-14-41/
LOCATION:Bäckgatan 14\, Bäckgatan 14\, Växjö\, 352 41\, Sverige
END:VEVENT
END:VCALENDAR