BEGIN:VCALENDAR
VERSION:2.0
PRODID:-//Vänsterpartiet Växjö - ECPv6.15.17.1//NONSGML v1.0//EN
CALSCALE:GREGORIAN
METHOD:PUBLISH
X-WR-CALNAME:Vänsterpartiet Växjö
X-ORIGINAL-URL:https://vaxjo.vansterpartiet.se
X-WR-CALDESC:Händelser för Vänsterpartiet Växjö
REFRESH-INTERVAL;VALUE=DURATION:PT1H
X-Robots-Tag:noindex
X-PUBLISHED-TTL:PT1H
BEGIN:VTIMEZONE
TZID:Europe/Stockholm
BEGIN:DAYLIGHT
TZOFFSETFROM:+0100
TZOFFSETTO:+0200
TZNAME:CEST
DTSTART:20230326T010000
END:DAYLIGHT
BEGIN:STANDARD
TZOFFSETFROM:+0200
TZOFFSETTO:+0100
TZNAME:CET
DTSTART:20231029T010000
END:STANDARD
BEGIN:DAYLIGHT
TZOFFSETFROM:+0100
TZOFFSETTO:+0200
TZNAME:CEST
DTSTART:20240331T010000
END:DAYLIGHT
BEGIN:STANDARD
TZOFFSETFROM:+0200
TZOFFSETTO:+0100
TZNAME:CET
DTSTART:20241027T010000
END:STANDARD
BEGIN:DAYLIGHT
TZOFFSETFROM:+0100
TZOFFSETTO:+0200
TZNAME:CEST
DTSTART:20250330T010000
END:DAYLIGHT
BEGIN:STANDARD
TZOFFSETFROM:+0200
TZOFFSETTO:+0100
TZNAME:CET
DTSTART:20251026T010000
END:STANDARD
END:VTIMEZONE
BEGIN:VEVENT
DTSTART;TZID=Europe/Stockholm:20241028T180000
DTEND;TZID=Europe/Stockholm:20241028T200000
DTSTAMP:20260421T200322
CREATED:20240903T122808Z
LAST-MODIFIED:20241008T140424Z
UID:3574-1730138400-1730145600@vaxjo.vansterpartiet.se
SUMMARY:Kommunala gruppen sammanträder
DESCRIPTION:Obs! Fysiskt möte. Alla kommunala gruppens möten är öppna för Dig som medlem. Vartannat möte är digitalt på Teams och vartannat hålls på plan 3 i Växjös kommunhus. Är du nyfiken på kommunala gruppens arbete? Kontakta Björn Kleinhenz på bjorn.kleinhenz@vaxjo.se för information och länk för de möten som är digitala.
URL:https://vaxjo.vansterpartiet.se/kalender/kommunala-gruppen-sammantrader-6/
LOCATION:Digitalt möte
ORGANIZER;CN="Kommunala gruppen":MAILTO:bjorn.kleinhenz@vaxjo.se
END:VEVENT
BEGIN:VEVENT
DTSTART;TZID=Europe/Stockholm:20241026T120000
DTEND;TZID=Europe/Stockholm:20241026T140000
DTSTAMP:20260421T200322
CREATED:20241020T162814Z
LAST-MODIFIED:20241020T162814Z
UID:3612-1729944000-1729951200@vaxjo.vansterpartiet.se
SUMMARY:Röd lördag
DESCRIPTION:Vi möts på Storgatan i Växjö. Kom för en kopp kaffe och lite snack. \nNya kommunnytt delas ut. \n  \nVänsterpartiet Växjö och Braås/Rottne
URL:https://vaxjo.vansterpartiet.se/kalender/rod-lordag-9/
LOCATION:Speakers corner\, Storgatan 18\,\, Växjö\, 35233\, Sweden
END:VEVENT
BEGIN:VEVENT
DTSTART;TZID=Europe/Stockholm:20241021T180000
DTEND;TZID=Europe/Stockholm:20241021T200000
DTSTAMP:20260421T200322
CREATED:20241008T140245Z
LAST-MODIFIED:20241008T140245Z
UID:3603-1729533600-1729540800@vaxjo.vansterpartiet.se
SUMMARY:Medlemsmöte om budget för Växjö kommun 2025
DESCRIPTION:Välkommen till medlemsmöte där våra representanter i budgetberedningen presenterar det förslag till budget för Växjö kommun 2025 som är framtagen tillsammans med våra samarbetspartier Socialdemokraterna och Miljöpartiet.
URL:https://vaxjo.vansterpartiet.se/kalender/medlemsmote-om-budget-for-vaxjo-kommun-2025/
LOCATION:Bäckgatan 14\, Bäckgatan 14\, Växjö\, 352 41\, Sverige
END:VEVENT
BEGIN:VEVENT
DTSTART;TZID=Europe/Stockholm:20241021T170000
DTEND;TZID=Europe/Stockholm:20241021T180000
DTSTAMP:20260421T200322
CREATED:20240414T101655Z
LAST-MODIFIED:20241008T135607Z
UID:3453-1729530000-1729533600@vaxjo.vansterpartiet.se
SUMMARY:Styrelsemöte Vänsterpartiet Växjö
DESCRIPTION:Styrelsemöte för Vänsterpartiet Växjö. Mötena är öppet för medlemmar. Anmälan till pernilla.ramström@vaxjo.se
URL:https://vaxjo.vansterpartiet.se/kalender/styrelsemote-vansterpartiet-vaxjo-10/
LOCATION:Bäckgatan 14\, Bäckgatan 14\, Växjö\, 352 41\, Sverige
ORGANIZER;CN="V%C3%A4nsterpartiet V%C3%A4xj%C3%B6":MAILTO:vaxjo@vansterpartiet.se
END:VEVENT
BEGIN:VEVENT
DTSTART;TZID=Europe/Stockholm:20241017T180000
DTEND;TZID=Europe/Stockholm:20241017T200000
DTSTAMP:20260421T200322
CREATED:20240906T170508Z
LAST-MODIFIED:20240906T170508Z
UID:3579-1729188000-1729195200@vaxjo.vansterpartiet.se
SUMMARY:Föreläsningsserie med Vänsterpartiet
DESCRIPTION:Åsa Plesner från Tankesmedjan Balans föreläser på Bäckgatan 14. \nVälkomna
URL:https://vaxjo.vansterpartiet.se/kalender/forelasningsserie-med-vansterpartiet-2/
LOCATION:Bäckgatan 14\, Bäckgatan 14\, Växjö\, 352 41\, Sverige
END:VEVENT
BEGIN:VEVENT
DTSTART;TZID=Europe/Stockholm:20240930T180000
DTEND;TZID=Europe/Stockholm:20240930T200000
DTSTAMP:20260421T200322
CREATED:20240903T122543Z
LAST-MODIFIED:20240903T122543Z
UID:3572-1727719200-1727726400@vaxjo.vansterpartiet.se
SUMMARY:Kommunala gruppen sammanträder
DESCRIPTION:Obs! Digitalt möte. Alla kommunala gruppens möten är öppna för Dig som medlem. Vartannat möte är digitalt på Teams och vartannat hålls på plan 3 i Växjös kommunhus. Är du nyfiken på kommunala gruppens arbete? Kontakta Björn Kleinhenz på bjorn.kleinhenz@vaxjo.se för information och länk för de möten som är digitala.
URL:https://vaxjo.vansterpartiet.se/kalender/kommunala-gruppen-sammantrader-5/
LOCATION:Digitalt möte\, Anmäl dig till mötet genom att skicka ett mail till bjorn.kleinhenz@vaxjo.se
ORGANIZER;CN="Kommunala gruppen":MAILTO:bjorn.kleinhenz@vaxjo.se
END:VEVENT
BEGIN:VEVENT
DTSTART;TZID=Europe/Stockholm:20240928T120000
DTEND;TZID=Europe/Stockholm:20240928T140000
DTSTAMP:20260421T200322
CREATED:20240918T083931Z
LAST-MODIFIED:20240918T083931Z
UID:3597-1727524800-1727532000@vaxjo.vansterpartiet.se
SUMMARY:Röd lördag
DESCRIPTION:Vänsterpartiet finns på Storgatan i Växjö . \nVi delar bl.a. ut det nya intressanta numret av Kommunnytt. \nVälkomna
URL:https://vaxjo.vansterpartiet.se/kalender/rod-lordag-8/
LOCATION:Storgatan\, Storgatan 22\, Växjö
END:VEVENT
BEGIN:VEVENT
DTSTART;TZID=Europe/Stockholm:20240928T120000
DTEND;TZID=Europe/Stockholm:20240928T140000
DTSTAMP:20260421T200322
CREATED:20240909T065321Z
LAST-MODIFIED:20240913T152909Z
UID:3587-1727524800-1727532000@vaxjo.vansterpartiet.se
SUMMARY:Lördagsöppet på Bäckgatan 14
DESCRIPTION:Välkomna för fika och goda samtal.
URL:https://vaxjo.vansterpartiet.se/kalender/lordagsoppet-pa-backgatan-14-3/
LOCATION:Bäckgatan 14\, Bäckgatan 14\, Växjö\, 352 41\, Sverige
END:VEVENT
BEGIN:VEVENT
DTSTART;TZID=Europe/Stockholm:20240923T170000
DTEND;TZID=Europe/Stockholm:20240923T193000
DTSTAMP:20260421T200322
CREATED:20240414T101503Z
LAST-MODIFIED:20240414T101503Z
UID:3451-1727110800-1727119800@vaxjo.vansterpartiet.se
SUMMARY:Styrelsemöte Vänsterpartiet Växjö
DESCRIPTION:Styrelsemöte för Vänsterpartiet Växjö. Mötena är öppet för medlemmar. Anmälan till pernilla.ramström@vaxjo.se
URL:https://vaxjo.vansterpartiet.se/kalender/styrelsemote-vansterpartiet-vaxjo-9/
LOCATION:Bäckgatan 14\, Bäckgatan 14\, Växjö\, 352 41\, Sverige
ORGANIZER;CN="V%C3%A4nsterpartiet V%C3%A4xj%C3%B6":MAILTO:vaxjo@vansterpartiet.se
END:VEVENT
BEGIN:VEVENT
DTSTART;TZID=Europe/Stockholm:20240921T120000
DTEND;TZID=Europe/Stockholm:20240921T140000
DTSTAMP:20260421T200322
CREATED:20240909T065217Z
LAST-MODIFIED:20240913T152838Z
UID:3585-1726920000-1726927200@vaxjo.vansterpartiet.se
SUMMARY:Lördagsöppet på Bäckgatan 14
DESCRIPTION:Välkomna för fika och goda samtal.
URL:https://vaxjo.vansterpartiet.se/kalender/lordagsoppet-pa-backgatan-14-2/
LOCATION:Bäckgatan 14\, Bäckgatan 14\, Växjö\, 352 41\, Sverige
END:VEVENT
BEGIN:VEVENT
DTSTART;TZID=Europe/Stockholm:20240914T120000
DTEND;TZID=Europe/Stockholm:20240914T140000
DTSTAMP:20260421T200322
CREATED:20240909T065033Z
LAST-MODIFIED:20240913T152724Z
UID:3583-1726315200-1726322400@vaxjo.vansterpartiet.se
SUMMARY:Lördagsöppet på Bäckgatan 14
DESCRIPTION:Välkomna för fika och goda samtal.
URL:https://vaxjo.vansterpartiet.se/kalender/lordagsoppet-pa-backgatan-14/
LOCATION:Bäckgatan 14\, Bäckgatan 14\, Växjö\, 352 41\, Sverige
END:VEVENT
BEGIN:VEVENT
DTSTART;TZID=Europe/Stockholm:20240912T180000
DTEND;TZID=Europe/Stockholm:20240912T200000
DTSTAMP:20260421T200322
CREATED:20240906T170213Z
LAST-MODIFIED:20240906T170213Z
UID:3577-1726164000-1726171200@vaxjo.vansterpartiet.se
SUMMARY:Föreläsningsserie med Vänsterpartiet
DESCRIPTION:Stefan Arvidsson\, författare och religionshistoriker föreläser på Bäckgatan 14. \nVälkomna
URL:https://vaxjo.vansterpartiet.se/kalender/forelasningsserie-med-vansterpartiet/
LOCATION:Bäckgatan 14\, Bäckgatan 14\, Växjö\, 352 41\, Sverige
END:VEVENT
BEGIN:VEVENT
DTSTART;TZID=Europe/Stockholm:20240826T173000
DTEND;TZID=Europe/Stockholm:20240826T200000
DTSTAMP:20260421T200322
CREATED:20240820T094405Z
LAST-MODIFIED:20240820T095359Z
UID:3556-1724693400-1724702400@vaxjo.vansterpartiet.se
SUMMARY:Bilder från Tecknarupproret
DESCRIPTION:Vernissage på Bäckgatan 14 \nVälkomna 26/8. \nhttps://www.facebook.com/VVaxjo/
URL:https://vaxjo.vansterpartiet.se/kalender/bilder-fran-tecknarupproret/
LOCATION:Bäckgatan 14\, Bäckgatan 14\, Växjö\, 352 41\, Sverige
END:VEVENT
BEGIN:VEVENT
DTSTART;TZID=Europe/Stockholm:20240819T170000
DTEND;TZID=Europe/Stockholm:20240819T183000
DTSTAMP:20260421T200322
CREATED:20240804T064214Z
LAST-MODIFIED:20240804T064214Z
UID:3547-1724086800-1724092200@vaxjo.vansterpartiet.se
SUMMARY:Gemensamt styrelsemöte
DESCRIPTION:Växjö och Braås/Rottne partiföreningar har gemensamt styrlsemöte. \nVälkomna till Bäckgatan 14.
URL:https://vaxjo.vansterpartiet.se/kalender/gemensamt-styrelsemote/
LOCATION:Bäckgatan 14\, Bäckgatan 14\, Växjö\, 352 41\, Sverige
END:VEVENT
BEGIN:VEVENT
DTSTART;TZID=Europe/Stockholm:20240812T180000
DTEND;TZID=Europe/Stockholm:20240812T200000
DTSTAMP:20260421T200322
CREATED:20240808T090610Z
LAST-MODIFIED:20240808T090610Z
UID:3551-1723485600-1723492800@vaxjo.vansterpartiet.se
SUMMARY:Kommunala gruppen sammanträder
DESCRIPTION:Alla kommunala gruppens möten är öppna för Dig som medlem. Vartannat möte är digitalt på Teams och vartannat hålls på plan 3 i Växjös kommunhus. Är du nyfiken på kommunala gruppens arbete? Kontakta Björn Kleinhenz på bjorn.kleinhenz@vaxjo.se för information och länk för de möten som är digitala.
URL:https://vaxjo.vansterpartiet.se/kalender/kommunala-gruppen-sammantrader-4/
LOCATION:Digitalt möte
ORGANIZER;CN="Kommunala gruppen":MAILTO:bjorn.kleinhenz@vaxjo.se
END:VEVENT
BEGIN:VEVENT
DTSTART;TZID=Europe/Stockholm:20240617T170000
DTEND;TZID=Europe/Stockholm:20240617T193000
DTSTAMP:20260421T200322
CREATED:20240414T101204Z
LAST-MODIFIED:20240414T101204Z
UID:3447-1718643600-1718652600@vaxjo.vansterpartiet.se
SUMMARY:Styrelsemöte Vänsterpartiet Växjö
DESCRIPTION:Styrelsemöte för Vänsterpartiet Växjö. Mötena är öppet för medlemmar. Anmälan till pernilla.ramström@vaxjo.se
URL:https://vaxjo.vansterpartiet.se/kalender/styrelsemote-vansterpartiet-vaxjo-7/
LOCATION:Bäckgatan 14\, Bäckgatan 14\, Växjö\, 352 41\, Sverige
ORGANIZER;CN="V%C3%A4nsterpartiet V%C3%A4xj%C3%B6":MAILTO:vaxjo@vansterpartiet.se
END:VEVENT
BEGIN:VEVENT
DTSTART;TZID=Europe/Stockholm:20240609T190000
DTEND;TZID=Europe/Stockholm:20240609T190000
DTSTAMP:20260421T200322
CREATED:20240605T081301Z
LAST-MODIFIED:20240605T081301Z
UID:3536-1717959600-1717959600@vaxjo.vansterpartiet.se
SUMMARY:EU-val VALVAKA
DESCRIPTION:Välkommen på valvaka!\n\n\n\n\n\n\n\nÅrets nagelbitare är många. En riktigt höjdare kommer på söndag.\nVänsterpartiet Kronoberg och partiföreningarna i Växjö bjuder in till valvaka. \nPlats: Villa & Trädgård de Luxe i Växjö\nTid: söndag 9 juni kl. 19.00 till sent \nStorbild och gott häng.\nDet går att beställa mat och dryck på plats.\nPizzaugnarna är igång och baren är öppen. \nIngen föranmälan behövs. \nVälkommen!
URL:https://vaxjo.vansterpartiet.se/kalender/eu-val-valvaka/
LOCATION:Trädgård De Lux\, Sandgärdsgatan 19\, Växjö\, 35230\, Sverige
ORGANIZER;CN="V%C3%A4nsterpartiet Kronoberg":MAILTO:kronoberg@vansterpartiet.se
END:VEVENT
BEGIN:VEVENT
DTSTART;TZID=Europe/Stockholm:20240527T180000
DTEND;TZID=Europe/Stockholm:20240527T200000
DTSTAMP:20260421T200322
CREATED:20240322T062158Z
LAST-MODIFIED:20240322T062158Z
UID:3383-1716832800-1716840000@vaxjo.vansterpartiet.se
SUMMARY:Kommunala gruppen sammanträder
DESCRIPTION:Obs! Fysiskt möte \nAlla kommunala gruppens möten är öppna för Dig som medlem. Vartannat möte är digitalt på Teams och vartannat hålls på plan 3 i Växjös kommunhus.\nÄr du nyfiken på kommunala gruppens arbete? Kontakta Björn Kleinhenz på bjorn.kleinhenz@vaxjo.se för information och länk för de möten som är digitala.
URL:https://vaxjo.vansterpartiet.se/kalender/kommunala-gruppen-sammantrader-3/
LOCATION:Digitalt möte
ORGANIZER;CN="Kommunala gruppen":MAILTO:bjorn.kleinhenz@vaxjo.se
END:VEVENT
BEGIN:VEVENT
DTSTART;TZID=Europe/Stockholm:20240513T190000
DTEND;TZID=Europe/Stockholm:20240513T210000
DTSTAMP:20260421T200322
CREATED:20240410T065250Z
LAST-MODIFIED:20240410T065250Z
UID:3428-1715626800-1715634000@vaxjo.vansterpartiet.se
SUMMARY:Talkshow på Trädgård De Luxe
DESCRIPTION:Samtal med Jonas Sjöstedt och Maria Garmer på scen \nLivejazz med Bobbe trio \nFri entré \nVälkomna
URL:https://vaxjo.vansterpartiet.se/kalender/talkshow-pa-tradgard-de-luxe/
LOCATION:Trädgård De Lux\, Sandgärdsgatan 19\, Växjö\, 35230\, Sverige
END:VEVENT
BEGIN:VEVENT
DTSTART;TZID=Europe/Stockholm:20240511T130000
DTEND;TZID=Europe/Stockholm:20240511T130000
DTSTAMP:20260421T200322
CREATED:20240505T121338Z
LAST-MODIFIED:20240505T121547Z
UID:3484-1715432400-1715432400@vaxjo.vansterpartiet.se
SUMMARY:Växjö PRIDE-PARAD 2024
DESCRIPTION:Välkomna att gå med Vänsterpartiet i årets pride-parad. \nSamling på Norrtulls parkering en stund innan 13:00
URL:https://vaxjo.vansterpartiet.se/kalender/vaxjo-pride-parad-2024/
END:VEVENT
BEGIN:VEVENT
DTSTART;TZID=Europe/Stockholm:20240510T110000
DTEND;TZID=Europe/Stockholm:20240510T180000
DTSTAMP:20260421T200322
CREATED:20240505T120721Z
LAST-MODIFIED:20240505T120721Z
UID:3482-1715338800-1715364000@vaxjo.vansterpartiet.se
SUMMARY:Valrörelsen på Storgatan
DESCRIPTION:Vi ses på Valytan på Storgatan 22. \nVi delar ut valmaterial och samtalar med folk.
URL:https://vaxjo.vansterpartiet.se/kalender/valrorelsen-pa-storgatan/
LOCATION:Storgatan\, Storgatan 22\, Växjö
END:VEVENT
BEGIN:VEVENT
DTSTART;TZID=Europe/Stockholm:20240509T110000
DTEND;TZID=Europe/Stockholm:20240509T180000
DTSTAMP:20260421T200322
CREATED:20240505T120531Z
LAST-MODIFIED:20240505T120531Z
UID:3480-1715252400-1715277600@vaxjo.vansterpartiet.se
SUMMARY:Valrörelse på Storgatan
DESCRIPTION:Vi ses på Valytan på Storgatan 22. \nVi delar ut valmaterial och samtalar med folk.
URL:https://vaxjo.vansterpartiet.se/kalender/valrorelse-pa-storgatan/
LOCATION:Storgatan\, Storgatan 22\, Växjö
END:VEVENT
BEGIN:VEVENT
DTSTART;TZID=Europe/Stockholm:20240508T180000
DTEND;TZID=Europe/Stockholm:20240508T180000
DTSTAMP:20260421T200322
CREATED:20240407T060425Z
LAST-MODIFIED:20240407T060425Z
UID:3420-1715191200-1715191200@vaxjo.vansterpartiet.se
SUMMARY:Pridekväll på Bäckgatan
DESCRIPTION:Välkomna till Bäckgatan för en helkväll av aktiviteter!\nPinverkstad\nTillsammans med Ung Vänster och Vänsterstudenterna LNU bjuder vi in till pinverkstad där du kan göra din egen pin med precis det budskap du behöver.\nPride-musikquiz\nSom traditionen bjuder håller vår käre Samuel Schelin i klurigt och roligt musikquiz\, i år med Abba-tema. Inte missa!\nFör allas rätt att vara den en är och älska den en vill!
URL:https://vaxjo.vansterpartiet.se/kalender/pridekvall-pa-backgatan/
LOCATION:Bäckgatan 14\, Bäckgatan 14\, Växjö\, 352 41\, Sverige
END:VEVENT
BEGIN:VEVENT
DTSTART;TZID=Europe/Stockholm:20240508T110000
DTEND;TZID=Europe/Stockholm:20240508T180000
DTSTAMP:20260421T200322
CREATED:20240505T120154Z
LAST-MODIFIED:20240505T120154Z
UID:3478-1715166000-1715191200@vaxjo.vansterpartiet.se
SUMMARY:EU-valrörelsen börjar
DESCRIPTION:Vi ses på Valytan på Storgatan 22. \nVi delar ut valmaterial och samtalar med folk.
URL:https://vaxjo.vansterpartiet.se/kalender/eu-valrorelsen-borjar/
LOCATION:Storgatan\, Storgatan 22\, Växjö
END:VEVENT
BEGIN:VEVENT
DTSTART;TZID=Europe/Stockholm:20240506T170000
DTEND;TZID=Europe/Stockholm:20240506T190000
DTSTAMP:20260421T200322
CREATED:20240410T083256Z
LAST-MODIFIED:20240410T083256Z
UID:3435-1715014800-1715022000@vaxjo.vansterpartiet.se
SUMMARY:Styrelsemöte Vänsterpartiet Växjö
DESCRIPTION:Styrelsemöte för Vänsterpartiet Växjö. \nMötena är öppet för medlemmar. Anmälan till pernilla.ramström@vaxjo.se \n 
URL:https://vaxjo.vansterpartiet.se/kalender/styrelsemote-vansterpartiet-vaxjo-6/
LOCATION:Bäckgatan 14\, Bäckgatan 14\, Växjö\, 352 41\, Sverige
ORGANIZER;CN="V%C3%A4nsterpartiet V%C3%A4xj%C3%B6":MAILTO:vaxjo@vansterpartiet.se
END:VEVENT
BEGIN:VEVENT
DTSTART;TZID=Europe/Stockholm:20240501T130000
DTEND;TZID=Europe/Stockholm:20240501T130000
DTSTAMP:20260421T200322
CREATED:20240323T184424Z
LAST-MODIFIED:20240427T161941Z
UID:3395-1714568400-1714568400@vaxjo.vansterpartiet.se
SUMMARY:Första maj
DESCRIPTION:Häng med och fira arbetarnas dag. Flammans kulturredaktör Paulina Sokolow och Maria Garmer talar och Ada Hectors band underhåller på IOGT. Tåget går från Speakers Corner kl. 13:00. \nAlla välkomna!
URL:https://vaxjo.vansterpartiet.se/kalender/forsta-maj/
LOCATION:Vattentorget\, Vattentorget 1\, Växjö\, 35234\, Sverige
END:VEVENT
BEGIN:VEVENT
DTSTART;TZID=Europe/Stockholm:20240429T180000
DTEND;TZID=Europe/Stockholm:20240429T200000
DTSTAMP:20260421T200322
CREATED:20240410T091442Z
LAST-MODIFIED:20240410T091442Z
UID:3439-1714413600-1714420800@vaxjo.vansterpartiet.se
SUMMARY:Kommunala gruppen sammanträder
DESCRIPTION:OBS! Digitalt möte. Alla kommunala gruppens möten är öppna för Dig som medlem. Vartannat möte är digitalt på Teams och vartannat hålls på plan 3 i Växjös kommunhus.\nÄr du nyfiken på kommunala gruppens arbete? Kontakta Björn Kleinhenz på bjorn.kleinhenz@vaxjo.se för information och länk för de möten som är digitala.
URL:https://vaxjo.vansterpartiet.se/kalender/kommunala-gruppen-sammantrader-8/
LOCATION:Digitalt möte\, Anmäl dig till mötet genom att skicka ett mail till bjorn.kleinhenz@vaxjo.se
ORGANIZER;CN="Kommunala gruppen":MAILTO:bjorn.kleinhenz@vaxjo.se
END:VEVENT
BEGIN:VEVENT
DTSTART;TZID=Europe/Stockholm:20240427T110000
DTEND;TZID=Europe/Stockholm:20240427T130000
DTSTAMP:20260421T200322
CREATED:20240403T145034Z
LAST-MODIFIED:20240403T145034Z
UID:3418-1714215600-1714222800@vaxjo.vansterpartiet.se
SUMMARY:Röd lördag
DESCRIPTION:Möta människor på Storgatan\, intressanta samtal\, dela ut flygblad.
URL:https://vaxjo.vansterpartiet.se/kalender/rod-lordag-7/
LOCATION:Willans park\, Willans Park\, Växjö\, 352 30\, Sverige
END:VEVENT
BEGIN:VEVENT
DTSTART;TZID=Europe/Stockholm:20240427T110000
DTEND;TZID=Europe/Stockholm:20240427T130000
DTSTAMP:20260421T200322
CREATED:20240403T144511Z
LAST-MODIFIED:20240403T144511Z
UID:3415-1714215600-1714222800@vaxjo.vansterpartiet.se
SUMMARY:Öppet på Bäckgatan 14
DESCRIPTION:Hålla lokalen öppen för allmänheten\, bjuda på fika och föra intressanta samtal.
URL:https://vaxjo.vansterpartiet.se/kalender/oppet-pa-backgatan-14-55/
LOCATION:Bäckgatan 14\, Bäckgatan 14\, Växjö\, 352 41\, Sverige
END:VEVENT
BEGIN:VEVENT
DTSTART;TZID=Europe/Stockholm:20240424T173000
DTEND;TZID=Europe/Stockholm:20240424T200000
DTSTAMP:20260421T200322
CREATED:20240407T060726Z
LAST-MODIFIED:20240407T060726Z
UID:3422-1713979800-1713988800@vaxjo.vansterpartiet.se
SUMMARY:Plakatverkstad
DESCRIPTION:Vi samlas för att göra fina plakat och banderoller som vi skall bära i årets förstamajtåg. \nVälkomna.
URL:https://vaxjo.vansterpartiet.se/kalender/plakatverkstad/
LOCATION:Bäckgatan 14\, Bäckgatan 14\, Växjö\, 352 41\, Sverige
END:VEVENT
END:VCALENDAR