BEGIN:VCALENDAR
VERSION:2.0
PRODID:-//Vänsterpartiet Växjö - ECPv6.15.17.1//NONSGML v1.0//EN
CALSCALE:GREGORIAN
METHOD:PUBLISH
X-WR-CALNAME:Vänsterpartiet Växjö
X-ORIGINAL-URL:https://vaxjo.vansterpartiet.se
X-WR-CALDESC:Händelser för Vänsterpartiet Växjö
REFRESH-INTERVAL;VALUE=DURATION:PT1H
X-Robots-Tag:noindex
X-PUBLISHED-TTL:PT1H
BEGIN:VTIMEZONE
TZID:Europe/Stockholm
BEGIN:DAYLIGHT
TZOFFSETFROM:+0100
TZOFFSETTO:+0200
TZNAME:CEST
DTSTART:20250330T010000
END:DAYLIGHT
BEGIN:STANDARD
TZOFFSETFROM:+0200
TZOFFSETTO:+0100
TZNAME:CET
DTSTART:20251026T010000
END:STANDARD
BEGIN:DAYLIGHT
TZOFFSETFROM:+0100
TZOFFSETTO:+0200
TZNAME:CEST
DTSTART:20260329T010000
END:DAYLIGHT
BEGIN:STANDARD
TZOFFSETFROM:+0200
TZOFFSETTO:+0100
TZNAME:CET
DTSTART:20261025T010000
END:STANDARD
BEGIN:DAYLIGHT
TZOFFSETFROM:+0100
TZOFFSETTO:+0200
TZNAME:CEST
DTSTART:20270328T010000
END:DAYLIGHT
BEGIN:STANDARD
TZOFFSETFROM:+0200
TZOFFSETTO:+0100
TZNAME:CET
DTSTART:20271031T010000
END:STANDARD
END:VTIMEZONE
BEGIN:VEVENT
DTSTART;TZID=Europe/Stockholm:20260321T120000
DTEND;TZID=Europe/Stockholm:20260321T140000
DTSTAMP:20260421T072148
CREATED:20260317T083244Z
LAST-MODIFIED:20260317T083244Z
UID:4209-1774094400-1774101600@vaxjo.vansterpartiet.se
SUMMARY:Röd Lördag
DESCRIPTION:Välkomna till Storgatan där vi finns på plats med den röda cykeln. Vi bjuder på en kopp kaffe och svarar på frågor. Kom och prata med oss.
URL:https://vaxjo.vansterpartiet.se/kalender/rod-lordag-24/
LOCATION:Speakers corner\, Storgatan 18\,\, Växjö\, 35233\, Sweden
END:VEVENT
BEGIN:VEVENT
DTSTART;TZID=Europe/Stockholm:20260324T120000
DTEND;TZID=Europe/Stockholm:20260324T140000
DTSTAMP:20260421T072148
CREATED:20260324T054818Z
LAST-MODIFIED:20260324T054818Z
UID:4224-1774353600-1774360800@vaxjo.vansterpartiet.se
SUMMARY:Röd lördag
DESCRIPTION:Välkomna till Storgatan där vi finns på plats med den röda cykeln. Vi bjuder på en kopp kaffe och svarar på frågor. Kom och prata med oss.
URL:https://vaxjo.vansterpartiet.se/kalender/rod-lordag-28/
LOCATION:Storgatan\, Storgatan 22\, Växjö
END:VEVENT
BEGIN:VEVENT
DTSTART;TZID=Europe/Stockholm:20260328T120000
DTEND;TZID=Europe/Stockholm:20260328T140000
DTSTAMP:20260421T072148
CREATED:20260317T083343Z
LAST-MODIFIED:20260317T083435Z
UID:4211-1774699200-1774706400@vaxjo.vansterpartiet.se
SUMMARY:Röd lördag
DESCRIPTION:Välkomna till Storgatan där vi finns på plats med den röda cykeln. Vi bjuder på en kopp kaffe och svarar på frågor. Kom och prata med oss. 
URL:https://vaxjo.vansterpartiet.se/kalender/rod-lordag-25/
LOCATION:Bäckgatan 14\, Bäckgatan 14\, Växjö\, 352 41\, Sverige
END:VEVENT
BEGIN:VEVENT
DTSTART;TZID=Europe/Stockholm:20260330T180000
DTEND;TZID=Europe/Stockholm:20260330T200000
DTSTAMP:20260421T072148
CREATED:20260324T054506Z
LAST-MODIFIED:20260324T054506Z
UID:4220-1774893600-1774900800@vaxjo.vansterpartiet.se
SUMMARY:Kommunala gruppen
DESCRIPTION:Kommunala gruppen sammanträder digitalt. Mötet är öppet för medlemmar efter anmälan till bjorn.kleinhenz@vaxjo.se
URL:https://vaxjo.vansterpartiet.se/kalender/kommunala-gruppen-8/
END:VEVENT
BEGIN:VEVENT
DTSTART;TZID=Europe/Stockholm:20260331T180000
DTEND;TZID=Europe/Stockholm:20260331T193000
DTSTAMP:20260421T072148
CREATED:20260330T180122Z
LAST-MODIFIED:20260330T180122Z
UID:4231-1774980000-1774985400@vaxjo.vansterpartiet.se
SUMMARY:Medlemsmöte
DESCRIPTION:Tisdagen 31/3 är det medlemsmöte om Vänsterpartiets nationella valkongress! Då har du som medlem möjlighet att ställa frågor om de motioner (förslag) som har skickats in av medlemmar och partiföreningar – och partistyrelsens svar på dessa motioner. Om ni vill diskutera någon specifik motion så hör gärna av er i förväg så att vi hinner läsa och tänka innan mötet.
URL:https://vaxjo.vansterpartiet.se/kalender/medlemsmote-7/
LOCATION:Bäckgatan 14\, Bäckgatan 14\, Växjö\, 352 41\, Sverige
END:VEVENT
BEGIN:VEVENT
DTSTART;TZID=Europe/Stockholm:20260404T120000
DTEND;TZID=Europe/Stockholm:20260404T140000
DTSTAMP:20260421T072148
CREATED:20260317T083530Z
LAST-MODIFIED:20260317T083530Z
UID:4213-1775304000-1775311200@vaxjo.vansterpartiet.se
SUMMARY:Röd lördag
DESCRIPTION:Välkomna till Storgatan där vi finns på plats med den röda cykeln. Vi bjuder på en kopp kaffe och svarar på frågor. Kom och prata med oss. 
URL:https://vaxjo.vansterpartiet.se/kalender/rod-lordag-26/
LOCATION:Bäckgatan 14\, Bäckgatan 14\, Växjö\, 352 41\, Sverige
END:VEVENT
BEGIN:VEVENT
DTSTART;TZID=Europe/Stockholm:20260411T120000
DTEND;TZID=Europe/Stockholm:20260411T140000
DTSTAMP:20260421T072148
CREATED:20260324T054718Z
LAST-MODIFIED:20260324T054718Z
UID:4222-1775908800-1775916000@vaxjo.vansterpartiet.se
SUMMARY:Röd lördag
DESCRIPTION:Välkomna till Storgatan där vi finns på plats med den röda cykeln. Vi bjuder på en kopp kaffe och svarar på frågor. Kom och prata med oss.
URL:https://vaxjo.vansterpartiet.se/kalender/rod-lordag-27/
LOCATION:Storgatan\, Storgatan 22\, Växjö
END:VEVENT
BEGIN:VEVENT
DTSTART;TZID=Europe/Stockholm:20260425T120000
DTEND;TZID=Europe/Stockholm:20260425T140000
DTSTAMP:20260421T072148
CREATED:20260324T054934Z
LAST-MODIFIED:20260324T054934Z
UID:4226-1777118400-1777125600@vaxjo.vansterpartiet.se
SUMMARY:Röd lördag
DESCRIPTION:Välkomna till Storgatan där vi finns på plats med den röda cykeln. Vi bjuder på en kopp kaffe och svarar på frågor. Kom och prata med oss.
URL:https://vaxjo.vansterpartiet.se/kalender/rod-lordag-29/
LOCATION:Storgatan\, Storgatan 22\, Växjö
END:VEVENT
END:VCALENDAR