BEGIN:VCALENDAR
VERSION:2.0
PRODID:-//Vänsterpartiet Växjö - ECPv6.15.17.1//NONSGML v1.0//EN
CALSCALE:GREGORIAN
METHOD:PUBLISH
X-WR-CALNAME:Vänsterpartiet Växjö
X-ORIGINAL-URL:https://vaxjo.vansterpartiet.se
X-WR-CALDESC:Händelser för Vänsterpartiet Växjö
REFRESH-INTERVAL;VALUE=DURATION:PT1H
X-Robots-Tag:noindex
X-PUBLISHED-TTL:PT1H
BEGIN:VTIMEZONE
TZID:Europe/Stockholm
BEGIN:DAYLIGHT
TZOFFSETFROM:+0100
TZOFFSETTO:+0200
TZNAME:CEST
DTSTART:20250330T010000
END:DAYLIGHT
BEGIN:STANDARD
TZOFFSETFROM:+0200
TZOFFSETTO:+0100
TZNAME:CET
DTSTART:20251026T010000
END:STANDARD
BEGIN:DAYLIGHT
TZOFFSETFROM:+0100
TZOFFSETTO:+0200
TZNAME:CEST
DTSTART:20260329T010000
END:DAYLIGHT
BEGIN:STANDARD
TZOFFSETFROM:+0200
TZOFFSETTO:+0100
TZNAME:CET
DTSTART:20261025T010000
END:STANDARD
BEGIN:DAYLIGHT
TZOFFSETFROM:+0100
TZOFFSETTO:+0200
TZNAME:CEST
DTSTART:20270328T010000
END:DAYLIGHT
BEGIN:STANDARD
TZOFFSETFROM:+0200
TZOFFSETTO:+0100
TZNAME:CET
DTSTART:20271031T010000
END:STANDARD
END:VTIMEZONE
BEGIN:VEVENT
DTSTART;TZID=Europe/Stockholm:20260215T150000
DTEND;TZID=Europe/Stockholm:20260215T170000
DTSTAMP:20260421T062525
CREATED:20260128T083240Z
LAST-MODIFIED:20260128T083240Z
UID:4110-1771167600-1771174800@vaxjo.vansterpartiet.se
SUMMARY:Årsmöte Vänsterpartiet Växjö
DESCRIPTION:Alla medlemmar är välkomna till Vänsterpartiet Växjös årsmöte på Bäckgatan.\nVi bjuder på fika.
URL:https://vaxjo.vansterpartiet.se/kalender/arsmote-vansterpartiet-vaxjo-2/
LOCATION:Bäckgatan 14\, Bäckgatan 14\, Växjö\, 352 41\, Sverige
ORGANIZER;CN="V%C3%A4nsterpartiet V%C3%A4xj%C3%B6":MAILTO:vaxjo@vansterpartiet.se
END:VEVENT
END:VCALENDAR