BEGIN:VCALENDAR
VERSION:2.0
PRODID:-//Vänsterpartiet Växjö - ECPv6.15.17.1//NONSGML v1.0//EN
CALSCALE:GREGORIAN
METHOD:PUBLISH
X-ORIGINAL-URL:https://vaxjo.vansterpartiet.se
X-WR-CALDESC:Händelser för Vänsterpartiet Växjö
REFRESH-INTERVAL;VALUE=DURATION:PT1H
X-Robots-Tag:noindex
X-PUBLISHED-TTL:PT1H
BEGIN:VTIMEZONE
TZID:Europe/Stockholm
BEGIN:DAYLIGHT
TZOFFSETFROM:+0100
TZOFFSETTO:+0200
TZNAME:CEST
DTSTART:20250330T010000
END:DAYLIGHT
BEGIN:STANDARD
TZOFFSETFROM:+0200
TZOFFSETTO:+0100
TZNAME:CET
DTSTART:20251026T010000
END:STANDARD
BEGIN:DAYLIGHT
TZOFFSETFROM:+0100
TZOFFSETTO:+0200
TZNAME:CEST
DTSTART:20260329T010000
END:DAYLIGHT
BEGIN:STANDARD
TZOFFSETFROM:+0200
TZOFFSETTO:+0100
TZNAME:CET
DTSTART:20261025T010000
END:STANDARD
BEGIN:DAYLIGHT
TZOFFSETFROM:+0100
TZOFFSETTO:+0200
TZNAME:CEST
DTSTART:20270328T010000
END:DAYLIGHT
BEGIN:STANDARD
TZOFFSETFROM:+0200
TZOFFSETTO:+0100
TZNAME:CET
DTSTART:20271031T010000
END:STANDARD
END:VTIMEZONE
BEGIN:VEVENT
DTSTART;TZID=Europe/Stockholm:20260214T080000
DTEND;TZID=Europe/Stockholm:20260214T200000
DTSTAMP:20260421T062623
CREATED:20260109T052017Z
LAST-MODIFIED:20260109T052017Z
UID:4091-1771056000-1771099200@vaxjo.vansterpartiet.se
SUMMARY:Dörrknackning Kalmar
DESCRIPTION:Valrörelsen kommer att präglas mycket av att vi söker upp våra invånare för personliga möten\, bland annat genom dörrknackning. Är du intresserad av att vara med och knacka dörr så får du gärna skriva till denna adressen\, vaxjo@vansterpartiet.se Partiföreningen i Kalmar har hört av sig till oss och önskar vårt stöd i en supersession av dörrknackning där på alla hjärtans dag\, 14/2. Vi kommer att samordna oss för att åka dit\, vill du åka med så hör av dig! Kalmar har lovat att längre fram komma till oss och hjälpa till med samma sak här. Jättekul och en chans att byta tankar och erfarenheter!
URL:https://vaxjo.vansterpartiet.se/kalender/dorrknackning-kalmar/
END:VEVENT
BEGIN:VEVENT
DTSTART;TZID=Europe/Stockholm:20260214T120000
DTEND;TZID=Europe/Stockholm:20260214T140000
DTSTAMP:20260421T062623
CREATED:20260128T084826Z
LAST-MODIFIED:20260128T084826Z
UID:4123-1771070400-1771077600@vaxjo.vansterpartiet.se
SUMMARY:Röd lördag
DESCRIPTION:Möt vänsterpartiet på Storgatan. Vi delar ut information och pratar med folk och bjuder på lite fika.
URL:https://vaxjo.vansterpartiet.se/kalender/rod-lordag-19/
LOCATION:Willans park\, Willans Park\, Växjö\, 352 30\, Sverige
END:VEVENT
END:VCALENDAR