BEGIN:VCALENDAR
VERSION:2.0
PRODID:-//Vänsterpartiet Växjö - ECPv6.15.17.1//NONSGML v1.0//EN
CALSCALE:GREGORIAN
METHOD:PUBLISH
X-WR-CALNAME:Vänsterpartiet Växjö
X-ORIGINAL-URL:https://vaxjo.vansterpartiet.se
X-WR-CALDESC:Händelser för Vänsterpartiet Växjö
REFRESH-INTERVAL;VALUE=DURATION:PT1H
X-Robots-Tag:noindex
X-PUBLISHED-TTL:PT1H
BEGIN:VTIMEZONE
TZID:Europe/Stockholm
BEGIN:DAYLIGHT
TZOFFSETFROM:+0100
TZOFFSETTO:+0200
TZNAME:CEST
DTSTART:20240331T010000
END:DAYLIGHT
BEGIN:STANDARD
TZOFFSETFROM:+0200
TZOFFSETTO:+0100
TZNAME:CET
DTSTART:20241027T010000
END:STANDARD
BEGIN:DAYLIGHT
TZOFFSETFROM:+0100
TZOFFSETTO:+0200
TZNAME:CEST
DTSTART:20250330T010000
END:DAYLIGHT
BEGIN:STANDARD
TZOFFSETFROM:+0200
TZOFFSETTO:+0100
TZNAME:CET
DTSTART:20251026T010000
END:STANDARD
BEGIN:DAYLIGHT
TZOFFSETFROM:+0100
TZOFFSETTO:+0200
TZNAME:CEST
DTSTART:20260329T010000
END:DAYLIGHT
BEGIN:STANDARD
TZOFFSETFROM:+0200
TZOFFSETTO:+0100
TZNAME:CET
DTSTART:20261025T010000
END:STANDARD
END:VTIMEZONE
BEGIN:VEVENT
DTSTART;TZID=Europe/Stockholm:20250823T120000
DTEND;TZID=Europe/Stockholm:20250823T140000
DTSTAMP:20260421T134606
CREATED:20250821T044620Z
LAST-MODIFIED:20250821T044620Z
UID:3927-1755950400-1755957600@vaxjo.vansterpartiet.se
SUMMARY:Öppet på Bäckgatan
DESCRIPTION:Nu är vi tillbaka efter sommaruppehållet. Kom in och ta en fika och social samvaro.
URL:https://vaxjo.vansterpartiet.se/kalender/oppet-pa-backgatan-30/
LOCATION:Bäckgatan 14\, Bäckgatan 14\, Växjö\, 352 41\, Sverige
END:VEVENT
BEGIN:VEVENT
DTSTART;TZID=Europe/Stockholm:20250823T120000
DTEND;TZID=Europe/Stockholm:20250823T150000
DTSTAMP:20260421T134606
CREATED:20250821T044357Z
LAST-MODIFIED:20250821T044357Z
UID:3925-1755950400-1755961200@vaxjo.vansterpartiet.se
SUMMARY:Rottnedagen 2025
DESCRIPTION:Möt Vänsterpartiet på Rottnedagen 250823 kl. 12:00-15:00 \nKom och ta en fika så kan vi prata lite om politik ellet något annat kul. Alla välkomna.
URL:https://vaxjo.vansterpartiet.se/kalender/rottnedagen-2025/
LOCATION:Rottne\, Rottne\, Sverige
END:VEVENT
END:VCALENDAR