BEGIN:VCALENDAR
VERSION:2.0
PRODID:-//Vänsterpartiet Växjö - ECPv6.15.17.1//NONSGML v1.0//EN
CALSCALE:GREGORIAN
METHOD:PUBLISH
X-WR-CALNAME:Vänsterpartiet Växjö
X-ORIGINAL-URL:https://vaxjo.vansterpartiet.se
X-WR-CALDESC:Händelser för Vänsterpartiet Växjö
REFRESH-INTERVAL;VALUE=DURATION:PT1H
X-Robots-Tag:noindex
X-PUBLISHED-TTL:PT1H
BEGIN:VTIMEZONE
TZID:Europe/Stockholm
BEGIN:DAYLIGHT
TZOFFSETFROM:+0100
TZOFFSETTO:+0200
TZNAME:CEST
DTSTART:20240331T010000
END:DAYLIGHT
BEGIN:STANDARD
TZOFFSETFROM:+0200
TZOFFSETTO:+0100
TZNAME:CET
DTSTART:20241027T010000
END:STANDARD
BEGIN:DAYLIGHT
TZOFFSETFROM:+0100
TZOFFSETTO:+0200
TZNAME:CEST
DTSTART:20250330T010000
END:DAYLIGHT
BEGIN:STANDARD
TZOFFSETFROM:+0200
TZOFFSETTO:+0100
TZNAME:CET
DTSTART:20251026T010000
END:STANDARD
BEGIN:DAYLIGHT
TZOFFSETFROM:+0100
TZOFFSETTO:+0200
TZNAME:CEST
DTSTART:20260329T010000
END:DAYLIGHT
BEGIN:STANDARD
TZOFFSETFROM:+0200
TZOFFSETTO:+0100
TZNAME:CET
DTSTART:20261025T010000
END:STANDARD
END:VTIMEZONE
BEGIN:VEVENT
DTSTART;TZID=Europe/Stockholm:20250818T180000
DTEND;TZID=Europe/Stockholm:20250818T200000
DTSTAMP:20260421T134606
CREATED:20250809T062834Z
LAST-MODIFIED:20250809T062834Z
UID:3908-1755540000-1755547200@vaxjo.vansterpartiet.se
SUMMARY:Kommunala gruppen sammanträder
DESCRIPTION:Kommunala gruppen samlas i Växjö kommunhus efter sommaruppehållet. \nSammanträdet är öppet för medlemmar efter anmälan till bjorn.kleinhenz@vaxjo.se
URL:https://vaxjo.vansterpartiet.se/kalender/kommunala-gruppen-sammantrader-11/
LOCATION:Växjö kommunhus\, Norra Järnvägsgatan 7\, Växjö\, 35112
ORGANIZER;CN="Kommunala gruppen":MAILTO:bjorn.kleinhenz@vaxjo.se
END:VEVENT
END:VCALENDAR