BEGIN:VCALENDAR
VERSION:2.0
PRODID:-//Vänsterpartiet Växjö - ECPv6.15.17.1//NONSGML v1.0//EN
CALSCALE:GREGORIAN
METHOD:PUBLISH
X-WR-CALNAME:Vänsterpartiet Växjö
X-ORIGINAL-URL:https://vaxjo.vansterpartiet.se
X-WR-CALDESC:Händelser för Vänsterpartiet Växjö
REFRESH-INTERVAL;VALUE=DURATION:PT1H
X-Robots-Tag:noindex
X-PUBLISHED-TTL:PT1H
BEGIN:VTIMEZONE
TZID:Europe/Stockholm
BEGIN:DAYLIGHT
TZOFFSETFROM:+0100
TZOFFSETTO:+0200
TZNAME:CEST
DTSTART:20240331T010000
END:DAYLIGHT
BEGIN:STANDARD
TZOFFSETFROM:+0200
TZOFFSETTO:+0100
TZNAME:CET
DTSTART:20241027T010000
END:STANDARD
BEGIN:DAYLIGHT
TZOFFSETFROM:+0100
TZOFFSETTO:+0200
TZNAME:CEST
DTSTART:20250330T010000
END:DAYLIGHT
BEGIN:STANDARD
TZOFFSETFROM:+0200
TZOFFSETTO:+0100
TZNAME:CET
DTSTART:20251026T010000
END:STANDARD
BEGIN:DAYLIGHT
TZOFFSETFROM:+0100
TZOFFSETTO:+0200
TZNAME:CEST
DTSTART:20260329T010000
END:DAYLIGHT
BEGIN:STANDARD
TZOFFSETFROM:+0200
TZOFFSETTO:+0100
TZNAME:CET
DTSTART:20261025T010000
END:STANDARD
END:VTIMEZONE
BEGIN:VEVENT
DTSTART;TZID=Europe/Stockholm:20250602T180000
DTEND;TZID=Europe/Stockholm:20250602T200000
DTSTAMP:20260421T161113
CREATED:20250526T051003Z
LAST-MODIFIED:20250526T051003Z
UID:3901-1748887200-1748894400@vaxjo.vansterpartiet.se
SUMMARY:Sammanträde kommunala gruppen
DESCRIPTION:Kommunala gruppen sammanträder måndagen 2/6 kl 18:00 i partilokalen på Bäckgatan. \nAlla kommunala gruppens möten är öppna för Dig som medlem. Vartannat möte är digitalt på Teams och vartannat hålls vanligen på plan 3 i Växjös kommunhus.\nÄr du nyfiken på kommunala gruppens arbete? Kontakta Björn Kleinhenz på bjorn.kleinhenz@vaxjo.se för information och länk för de möten som är digitala.
URL:https://vaxjo.vansterpartiet.se/kalender/sammantrade-kommunala-gruppen/
LOCATION:Bäckgatan 14\, Bäckgatan 14\, Växjö\, 352 41\, Sverige
ORGANIZER;CN="Kommunala gruppen":MAILTO:bjorn.kleinhenz@vaxjo.se
END:VEVENT
END:VCALENDAR