BEGIN:VCALENDAR
VERSION:2.0
PRODID:-//Vänsterpartiet Växjö - ECPv6.15.17.1//NONSGML v1.0//EN
CALSCALE:GREGORIAN
METHOD:PUBLISH
X-ORIGINAL-URL:https://vaxjo.vansterpartiet.se
X-WR-CALDESC:Händelser för Vänsterpartiet Växjö
REFRESH-INTERVAL;VALUE=DURATION:PT1H
X-Robots-Tag:noindex
X-PUBLISHED-TTL:PT1H
BEGIN:VTIMEZONE
TZID:Europe/Stockholm
BEGIN:DAYLIGHT
TZOFFSETFROM:+0100
TZOFFSETTO:+0200
TZNAME:CEST
DTSTART:20240331T010000
END:DAYLIGHT
BEGIN:STANDARD
TZOFFSETFROM:+0200
TZOFFSETTO:+0100
TZNAME:CET
DTSTART:20241027T010000
END:STANDARD
BEGIN:DAYLIGHT
TZOFFSETFROM:+0100
TZOFFSETTO:+0200
TZNAME:CEST
DTSTART:20250330T010000
END:DAYLIGHT
BEGIN:STANDARD
TZOFFSETFROM:+0200
TZOFFSETTO:+0100
TZNAME:CET
DTSTART:20251026T010000
END:STANDARD
BEGIN:DAYLIGHT
TZOFFSETFROM:+0100
TZOFFSETTO:+0200
TZNAME:CEST
DTSTART:20260329T010000
END:DAYLIGHT
BEGIN:STANDARD
TZOFFSETFROM:+0200
TZOFFSETTO:+0100
TZNAME:CET
DTSTART:20261025T010000
END:STANDARD
END:VTIMEZONE
BEGIN:VEVENT
DTSTART;TZID=Europe/Stockholm:20250501T130000
DTEND;TZID=Europe/Stockholm:20250501T160000
DTSTAMP:20260421T172502
CREATED:20250414T054801Z
LAST-MODIFIED:20250414T054801Z
UID:3870-1746104400-1746115200@vaxjo.vansterpartiet.se
SUMMARY:1:a maj firande
DESCRIPTION:1 maj-firande! Samling kl 13.00 på Speakers Corner för appelltal\, fördelning av plakat\, försäljning av 1maj-pins och repetition av talkörer. 13.30 tågar vi tillsammans med Uppvidinge Älghults musikkår och avslutar traditionsenligt på Vattentorget. På IOGT finns palestinskt fika\, och det blir tal av Lotta Johnsson Fornarve\, riksdagsledamot och Maria Garmer\, kommunalråd samt musik av gruppen ”Dom fläckfria”. Kom med och bidra till att göra Vänsterpartiets tåg större än någonsin!\n\nVill du hjälpa till med själva arrangemanget så ligger ett antal aktioner uppe i Zetkin/Agera där du kan boka dig\, länk ligger längst ner i detta mail. Alternativt svarar du på det här mailet med vad du kan tänka dig att bidra med så hjälps vi åt att hitta en arbetsuppgift åt dig.
URL:https://vaxjo.vansterpartiet.se/kalender/1a-maj-firande/
LOCATION:Speakers corner\, Storgatan 18\,\, Växjö\, 35233\, Sweden
END:VEVENT
END:VCALENDAR