BEGIN:VCALENDAR
VERSION:2.0
PRODID:-//Vänsterpartiet Växjö - ECPv6.15.17.1//NONSGML v1.0//EN
CALSCALE:GREGORIAN
METHOD:PUBLISH
X-WR-CALNAME:Vänsterpartiet Växjö
X-ORIGINAL-URL:https://vaxjo.vansterpartiet.se
X-WR-CALDESC:Händelser för Vänsterpartiet Växjö
REFRESH-INTERVAL;VALUE=DURATION:PT1H
X-Robots-Tag:noindex
X-PUBLISHED-TTL:PT1H
BEGIN:VTIMEZONE
TZID:Europe/Stockholm
BEGIN:DAYLIGHT
TZOFFSETFROM:+0100
TZOFFSETTO:+0200
TZNAME:CEST
DTSTART:20240331T010000
END:DAYLIGHT
BEGIN:STANDARD
TZOFFSETFROM:+0200
TZOFFSETTO:+0100
TZNAME:CET
DTSTART:20241027T010000
END:STANDARD
BEGIN:DAYLIGHT
TZOFFSETFROM:+0100
TZOFFSETTO:+0200
TZNAME:CEST
DTSTART:20250330T010000
END:DAYLIGHT
BEGIN:STANDARD
TZOFFSETFROM:+0200
TZOFFSETTO:+0100
TZNAME:CET
DTSTART:20251026T010000
END:STANDARD
BEGIN:DAYLIGHT
TZOFFSETFROM:+0100
TZOFFSETTO:+0200
TZNAME:CEST
DTSTART:20260329T010000
END:DAYLIGHT
BEGIN:STANDARD
TZOFFSETFROM:+0200
TZOFFSETTO:+0100
TZNAME:CET
DTSTART:20261025T010000
END:STANDARD
END:VTIMEZONE
BEGIN:VEVENT
DTSTART;TZID=Europe/Stockholm:20250308T120000
DTEND;TZID=Europe/Stockholm:20250308T140000
DTSTAMP:20260421T200211
CREATED:20250225T065547Z
LAST-MODIFIED:20250225T065547Z
UID:3790-1741435200-1741442400@vaxjo.vansterpartiet.se
SUMMARY:Öppet på Bäckgatan
DESCRIPTION:Kom in och prata lite politik eller något annat roligt. Kaffe och kaka bjuder vi på. \nVarmt välkomna.
URL:https://vaxjo.vansterpartiet.se/kalender/oppet-pa-backgatan-15/
LOCATION:Bäckgatan 14\, Bäckgatan 14\, Växjö\, 352 41\, Sverige
END:VEVENT
BEGIN:VEVENT
DTSTART;TZID=Europe/Stockholm:20250308T190000
DTEND;TZID=Europe/Stockholm:20250308T193000
DTSTAMP:20260421T200211
CREATED:20250302T113422Z
LAST-MODIFIED:20250302T113422Z
UID:3811-1741460400-1741462200@vaxjo.vansterpartiet.se
SUMMARY:Internationella kvinnodagen
DESCRIPTION:Internationella kvinnodagen med Vänsterpartiet Växjö. \nFöreläsning med NINA BJÖRK \nBäckgatan 14 \nLördag 8:e mars kl. 18.00 \nVälkomna!
URL:https://vaxjo.vansterpartiet.se/kalender/internationella-kvinnodagen-2/
LOCATION:Bäckgatan 14\, Bäckgatan 14\, Växjö\, 352 41\, Sverige
END:VEVENT
END:VCALENDAR