BEGIN:VCALENDAR
VERSION:2.0
PRODID:-//Vänsterpartiet Växjö - ECPv6.15.17.1//NONSGML v1.0//EN
CALSCALE:GREGORIAN
METHOD:PUBLISH
X-WR-CALNAME:Vänsterpartiet Växjö
X-ORIGINAL-URL:https://vaxjo.vansterpartiet.se
X-WR-CALDESC:Händelser för Vänsterpartiet Växjö
REFRESH-INTERVAL;VALUE=DURATION:PT1H
X-Robots-Tag:noindex
X-PUBLISHED-TTL:PT1H
BEGIN:VTIMEZONE
TZID:Europe/Stockholm
BEGIN:DAYLIGHT
TZOFFSETFROM:+0100
TZOFFSETTO:+0200
TZNAME:CEST
DTSTART:20240331T010000
END:DAYLIGHT
BEGIN:STANDARD
TZOFFSETFROM:+0200
TZOFFSETTO:+0100
TZNAME:CET
DTSTART:20241027T010000
END:STANDARD
BEGIN:DAYLIGHT
TZOFFSETFROM:+0100
TZOFFSETTO:+0200
TZNAME:CEST
DTSTART:20250330T010000
END:DAYLIGHT
BEGIN:STANDARD
TZOFFSETFROM:+0200
TZOFFSETTO:+0100
TZNAME:CET
DTSTART:20251026T010000
END:STANDARD
BEGIN:DAYLIGHT
TZOFFSETFROM:+0100
TZOFFSETTO:+0200
TZNAME:CEST
DTSTART:20260329T010000
END:DAYLIGHT
BEGIN:STANDARD
TZOFFSETFROM:+0200
TZOFFSETTO:+0100
TZNAME:CET
DTSTART:20261025T010000
END:STANDARD
END:VTIMEZONE
BEGIN:VEVENT
DTSTART;TZID=Europe/Stockholm:20250217T180000
DTEND;TZID=Europe/Stockholm:20250217T210000
DTSTAMP:20260421T212121
CREATED:20250127T070649Z
LAST-MODIFIED:20250127T070649Z
UID:3761-1739815200-1739826000@vaxjo.vansterpartiet.se
SUMMARY:ÅRSMÖTE Vänsterpartiet Växjö
DESCRIPTION:Hej medlem\,\n\nnu närmar vi oss ett av de viktigaste möten vi har i vår partiförening: årsmötet!\n\nDär kan du som medlem få koll på vad vi gjort under 2024\, och vad vi planerar för 2025 och även vara med och besluta om bland annat hur vår styrelse ska se ut under året. Vi kommer också att utse 13 representanter samt lika många ersättare till Distriktets årsmöte (DÅK) som i år hålls i Kosta 15-16 mars 2025 så fundera på om du är intresserad av att komma med!\n\nVarmt välkommen till Bäckgatan 14 i Växjö dem 17 februari kl 18.00 – vi bjuder på fika!\n\nHälsar\n\n\nPernilla Ramström\nOrdförande Vänsterpartiet Växjö
URL:https://vaxjo.vansterpartiet.se/kalender/arsmote-vansterpartiet-vaxjo/
LOCATION:Bäckgatan 14\, Bäckgatan 14\, Växjö\, 352 41\, Sverige
ORGANIZER;CN="V%C3%A4nsterpartiet V%C3%A4xj%C3%B6":MAILTO:vaxjo@vansterpartiet.se
END:VEVENT
END:VCALENDAR