BEGIN:VCALENDAR
VERSION:2.0
PRODID:-//Vänsterpartiet Växjö - ECPv6.15.17.1//NONSGML v1.0//EN
CALSCALE:GREGORIAN
METHOD:PUBLISH
X-ORIGINAL-URL:https://vaxjo.vansterpartiet.se
X-WR-CALDESC:Händelser för Vänsterpartiet Växjö
REFRESH-INTERVAL;VALUE=DURATION:PT1H
X-Robots-Tag:noindex
X-PUBLISHED-TTL:PT1H
BEGIN:VTIMEZONE
TZID:Europe/Stockholm
BEGIN:DAYLIGHT
TZOFFSETFROM:+0100
TZOFFSETTO:+0200
TZNAME:CEST
DTSTART:20230326T010000
END:DAYLIGHT
BEGIN:STANDARD
TZOFFSETFROM:+0200
TZOFFSETTO:+0100
TZNAME:CET
DTSTART:20231029T010000
END:STANDARD
BEGIN:DAYLIGHT
TZOFFSETFROM:+0100
TZOFFSETTO:+0200
TZNAME:CEST
DTSTART:20240331T010000
END:DAYLIGHT
BEGIN:STANDARD
TZOFFSETFROM:+0200
TZOFFSETTO:+0100
TZNAME:CET
DTSTART:20241027T010000
END:STANDARD
BEGIN:DAYLIGHT
TZOFFSETFROM:+0100
TZOFFSETTO:+0200
TZNAME:CEST
DTSTART:20250330T010000
END:DAYLIGHT
BEGIN:STANDARD
TZOFFSETFROM:+0200
TZOFFSETTO:+0100
TZNAME:CET
DTSTART:20251026T010000
END:STANDARD
END:VTIMEZONE
BEGIN:VEVENT
DTSTART;TZID=Europe/Stockholm:20241125T180000
DTEND;TZID=Europe/Stockholm:20241125T200000
DTSTAMP:20260421T234611
CREATED:20240402T061517Z
LAST-MODIFIED:20241008T140910Z
UID:3404-1732557600-1732564800@vaxjo.vansterpartiet.se
SUMMARY:Kommunala gruppen sammanträder
DESCRIPTION:Obs! Digitalt möte. Alla kommunala gruppens möten är öppna för Dig som medlem. Vartannat möte är digitalt på Teams och vartannat hålls på plan 3 i Växjös kommunhus. Är du nyfiken på kommunala gruppens arbete? Kontakta Björn Kleinhenz på bjorn.kleinhenz@vaxjo.se för information och länk för de möten som är digitala.
URL:https://vaxjo.vansterpartiet.se/kalender/kommunala-gruppen-sammantrader-7/
LOCATION:Digitalt möte
ORGANIZER;CN="Kommunala gruppen":MAILTO:bjorn.kleinhenz@vaxjo.se
END:VEVENT
END:VCALENDAR