BEGIN:VCALENDAR
VERSION:2.0
PRODID:-//Vänsterpartiet Växjö - ECPv6.15.17.1//NONSGML v1.0//EN
CALSCALE:GREGORIAN
METHOD:PUBLISH
X-ORIGINAL-URL:https://vaxjo.vansterpartiet.se
X-WR-CALDESC:Händelser för Vänsterpartiet Växjö
REFRESH-INTERVAL;VALUE=DURATION:PT1H
X-Robots-Tag:noindex
X-PUBLISHED-TTL:PT1H
BEGIN:VTIMEZONE
TZID:Europe/Stockholm
BEGIN:DAYLIGHT
TZOFFSETFROM:+0100
TZOFFSETTO:+0200
TZNAME:CEST
DTSTART:20230326T010000
END:DAYLIGHT
BEGIN:STANDARD
TZOFFSETFROM:+0200
TZOFFSETTO:+0100
TZNAME:CET
DTSTART:20231029T010000
END:STANDARD
BEGIN:DAYLIGHT
TZOFFSETFROM:+0100
TZOFFSETTO:+0200
TZNAME:CEST
DTSTART:20240331T010000
END:DAYLIGHT
BEGIN:STANDARD
TZOFFSETFROM:+0200
TZOFFSETTO:+0100
TZNAME:CET
DTSTART:20241027T010000
END:STANDARD
BEGIN:DAYLIGHT
TZOFFSETFROM:+0100
TZOFFSETTO:+0200
TZNAME:CEST
DTSTART:20250330T010000
END:DAYLIGHT
BEGIN:STANDARD
TZOFFSETFROM:+0200
TZOFFSETTO:+0100
TZNAME:CET
DTSTART:20251026T010000
END:STANDARD
END:VTIMEZONE
BEGIN:VEVENT
DTSTART;TZID=Europe/Stockholm:20241123T090000
DTEND;TZID=Europe/Stockholm:20241123T150000
DTSTAMP:20260422T010003
CREATED:20241120T102359Z
LAST-MODIFIED:20241120T102359Z
UID:3677-1732352400-1732374000@vaxjo.vansterpartiet.se
SUMMARY:Inbjudan till strategidag
DESCRIPTION:Inbjudan till Vänsterpartiet Kronobergs partiföreningar och medlemmar \nVi bjuder in er till en inspirerande strategidag där vi tillsammans ska stärka våra partiföreningar och förbereda oss för valet 2026! Dagen kommer att fyllas med värdefulla diskussioner\, nätverkande och gemensamma insatser för att öka vårt engagemang och få fler aktiva medlemmar. \nVi i Distriktet hoppas att någon från styrelsen från samtliga partiföreningar kan vara med. Upplägget för dagen är anpassat så att alla oavsett om du är medlem\, styrelseledamot\, sitter i nämnd osv kan delta. \nDatum: 2024-11-23 \nTid: 09.00 – 15.00 ca \nPlats: IOGT-NTO\, Växjö
URL:https://vaxjo.vansterpartiet.se/kalender/inbjudan-till-strategidag/
LOCATION:Vattentorget\, Vattentorget 1\, Växjö\, 35234\, Sverige
ORGANIZER;CN="V%C3%A4nsterpartiet Kronoberg":MAILTO:kronoberg@vansterpartiet.se
END:VEVENT
BEGIN:VEVENT
DTSTART;TZID=Europe/Stockholm:20241123T120000
DTEND;TZID=Europe/Stockholm:20241123T140000
DTSTAMP:20260422T010003
CREATED:20241112T181839Z
LAST-MODIFIED:20241112T181839Z
UID:3658-1732363200-1732370400@vaxjo.vansterpartiet.se
SUMMARY:Röd lördag
DESCRIPTION:Vi möts på Storgatan i Växjö. Kom för en kopp kaffe och lite snack. Nya kommunnytt delas ut.\nVänsterpartiet Växjö och Braås/Rottne
URL:https://vaxjo.vansterpartiet.se/kalender/rod-lordag-10/
LOCATION:Speakers corner\, Storgatan 18\,\, Växjö\, 35233\, Sweden
END:VEVENT
BEGIN:VEVENT
DTSTART;TZID=Europe/Stockholm:20241123T120000
DTEND;TZID=Europe/Stockholm:20241123T140000
DTSTAMP:20260422T010003
CREATED:20241112T182045Z
LAST-MODIFIED:20241112T182045Z
UID:3660-1732363200-1732370400@vaxjo.vansterpartiet.se
SUMMARY:Öppet på Bäckgatan
DESCRIPTION:Välkomna in på en kopp kaffe och kanske lite politiksnack eller något annat roligt.
URL:https://vaxjo.vansterpartiet.se/kalender/oppet-pa-backgatan-8/
END:VEVENT
BEGIN:VEVENT
DTSTART;TZID=Europe/Stockholm:20241123T150000
DTEND;TZID=Europe/Stockholm:20241123T160000
DTSTAMP:20260422T010003
CREATED:20241112T181355Z
LAST-MODIFIED:20241112T181355Z
UID:3656-1732374000-1732377600@vaxjo.vansterpartiet.se
SUMMARY:Vi anger inte!
DESCRIPTION:Manifestation mot angiverilagen på Vattentorget
URL:https://vaxjo.vansterpartiet.se/kalender/vi-anger-inte/
LOCATION:Vattentorget\, Vattentorget 1\, Växjö\, 35234\, Sverige
ORGANIZER;CN="V%C3%A4nsterpartiet V%C3%A4xj%C3%B6":MAILTO:vaxjo@vansterpartiet.se
END:VEVENT
END:VCALENDAR