BEGIN:VCALENDAR
VERSION:2.0
PRODID:-//Vänsterpartiet Växjö - ECPv6.15.17.1//NONSGML v1.0//EN
CALSCALE:GREGORIAN
METHOD:PUBLISH
X-ORIGINAL-URL:https://vaxjo.vansterpartiet.se
X-WR-CALDESC:Händelser för Vänsterpartiet Växjö
REFRESH-INTERVAL;VALUE=DURATION:PT1H
X-Robots-Tag:noindex
X-PUBLISHED-TTL:PT1H
BEGIN:VTIMEZONE
TZID:Europe/Stockholm
BEGIN:DAYLIGHT
TZOFFSETFROM:+0100
TZOFFSETTO:+0200
TZNAME:CEST
DTSTART:20230326T010000
END:DAYLIGHT
BEGIN:STANDARD
TZOFFSETFROM:+0200
TZOFFSETTO:+0100
TZNAME:CET
DTSTART:20231029T010000
END:STANDARD
BEGIN:DAYLIGHT
TZOFFSETFROM:+0100
TZOFFSETTO:+0200
TZNAME:CEST
DTSTART:20240331T010000
END:DAYLIGHT
BEGIN:STANDARD
TZOFFSETFROM:+0200
TZOFFSETTO:+0100
TZNAME:CET
DTSTART:20241027T010000
END:STANDARD
BEGIN:DAYLIGHT
TZOFFSETFROM:+0100
TZOFFSETTO:+0200
TZNAME:CEST
DTSTART:20250330T010000
END:DAYLIGHT
BEGIN:STANDARD
TZOFFSETFROM:+0200
TZOFFSETTO:+0100
TZNAME:CET
DTSTART:20251026T010000
END:STANDARD
END:VTIMEZONE
BEGIN:VEVENT
DTSTART;TZID=Europe/Stockholm:20241114T180000
DTEND;TZID=Europe/Stockholm:20241114T200000
DTSTAMP:20260422T010004
CREATED:20241020T162311Z
LAST-MODIFIED:20241020T162311Z
UID:3610-1731607200-1731614400@vaxjo.vansterpartiet.se
SUMMARY:Vänsterpartiet föreläsningsserie
DESCRIPTION:Välkomna att komma och lyssna på Jens Holm. \n  \nJens Holm har ett förflutet som EU-parlamentariker\, riksdagsledamot och klimatpolitisk talesper son för Vänsterpartiet. Jens har också en bakgrund som skribent och bidrar regelbundet med texter till tidningen Syre.\nTill Växjö kommer Jens Holm för att prata om klimatpolitik ur ett vänsterperspektiv och för att presentera boken Vänsterns svar på klimatkrisen som han skrivit tillsammans med Jonas Sjöstedt. \nPresenteras av Vänsterpartiet Växjö\, Vänsterpartiet Kronoberg och Vänster-\nstudenterna LNU i samarbete med ABF Kronoberg. Alltid fri entré och fika!
URL:https://vaxjo.vansterpartiet.se/kalender/vansterpartiet-forelasningsserie/
LOCATION:Bäckgatan 14\, Bäckgatan 14\, Växjö\, 352 41\, Sverige
END:VEVENT
END:VCALENDAR