BEGIN:VCALENDAR
VERSION:2.0
PRODID:-//Vänsterpartiet Växjö - ECPv6.15.17.1//NONSGML v1.0//EN
CALSCALE:GREGORIAN
METHOD:PUBLISH
X-ORIGINAL-URL:https://vaxjo.vansterpartiet.se
X-WR-CALDESC:Händelser för Vänsterpartiet Växjö
REFRESH-INTERVAL;VALUE=DURATION:PT1H
X-Robots-Tag:noindex
X-PUBLISHED-TTL:PT1H
BEGIN:VTIMEZONE
TZID:Europe/Stockholm
BEGIN:DAYLIGHT
TZOFFSETFROM:+0100
TZOFFSETTO:+0200
TZNAME:CEST
DTSTART:20230326T010000
END:DAYLIGHT
BEGIN:STANDARD
TZOFFSETFROM:+0200
TZOFFSETTO:+0100
TZNAME:CET
DTSTART:20231029T010000
END:STANDARD
BEGIN:DAYLIGHT
TZOFFSETFROM:+0100
TZOFFSETTO:+0200
TZNAME:CEST
DTSTART:20240331T010000
END:DAYLIGHT
BEGIN:STANDARD
TZOFFSETFROM:+0200
TZOFFSETTO:+0100
TZNAME:CET
DTSTART:20241027T010000
END:STANDARD
BEGIN:DAYLIGHT
TZOFFSETFROM:+0100
TZOFFSETTO:+0200
TZNAME:CEST
DTSTART:20250330T010000
END:DAYLIGHT
BEGIN:STANDARD
TZOFFSETFROM:+0200
TZOFFSETTO:+0100
TZNAME:CET
DTSTART:20251026T010000
END:STANDARD
END:VTIMEZONE
BEGIN:VEVENT
DTSTART;TZID=Europe/Stockholm:20241111T180000
DTEND;TZID=Europe/Stockholm:20241111T193000
DTSTAMP:20260422T010003
CREATED:20241026T165537Z
LAST-MODIFIED:20241026T165537Z
UID:3634-1731348000-1731353400@vaxjo.vansterpartiet.se
SUMMARY:Öppet möte -hur räddar vi vården?
DESCRIPTION:Öppet möte: Vi kan rädda vården – men hur? (11/11 kl 18:00)\nNedskärningarna i sjukvården som nu sker runt om i landet hade kunnat undvikas med en annan politik. Vänsterpartiet har förslagen som kan vända vårdkrisen och få personalen att stanna i vården. Det är fullt möjligt att bygga ut vården och ge vårdpersonalen förbättrade arbetsvillkor\, men det kräver att politiken prioriterar detta. \nEn som vet hur vi ska göra är Vänsterpartiets talesperson för hälso- och sjukvårdspolitiken\, Karin Rågsjö! Hon kommer till Växjö den 11/11 och kommer presentera Vänsterpartiets vårdpolitik\, hotet från Tidö-regeringen och vägen framåt. Karin och lokala sjukvårdspolitiker kommer också svara på alla frågor som du har om vården. \nÖppet för alla – vi bjuder på fika!\nVälkomna! \nDatum: 11 November\nTid: 18:00-19:30\nPlats: Bäckgatan 14\, Växjö
URL:https://vaxjo.vansterpartiet.se/kalender/oppet-mote-hur-raddar-vi-varden/
LOCATION:Bäckgatan 14\, Bäckgatan 14\, Växjö\, 352 41\, Sverige
ORGANIZER;CN="V%C3%A4nsterpartiet Kronoberg":MAILTO:kronoberg@vansterpartiet.se
END:VEVENT
END:VCALENDAR