BEGIN:VCALENDAR
VERSION:2.0
PRODID:-//Vänsterpartiet Växjö - ECPv6.15.17.1//NONSGML v1.0//EN
CALSCALE:GREGORIAN
METHOD:PUBLISH
X-WR-CALNAME:Vänsterpartiet Växjö
X-ORIGINAL-URL:https://vaxjo.vansterpartiet.se
X-WR-CALDESC:Händelser för Vänsterpartiet Växjö
REFRESH-INTERVAL;VALUE=DURATION:PT1H
X-Robots-Tag:noindex
X-PUBLISHED-TTL:PT1H
BEGIN:VTIMEZONE
TZID:Europe/Stockholm
BEGIN:DAYLIGHT
TZOFFSETFROM:+0100
TZOFFSETTO:+0200
TZNAME:CEST
DTSTART:20230326T010000
END:DAYLIGHT
BEGIN:STANDARD
TZOFFSETFROM:+0200
TZOFFSETTO:+0100
TZNAME:CET
DTSTART:20231029T010000
END:STANDARD
BEGIN:DAYLIGHT
TZOFFSETFROM:+0100
TZOFFSETTO:+0200
TZNAME:CEST
DTSTART:20240331T010000
END:DAYLIGHT
BEGIN:STANDARD
TZOFFSETFROM:+0200
TZOFFSETTO:+0100
TZNAME:CET
DTSTART:20241027T010000
END:STANDARD
BEGIN:DAYLIGHT
TZOFFSETFROM:+0100
TZOFFSETTO:+0200
TZNAME:CEST
DTSTART:20250330T010000
END:DAYLIGHT
BEGIN:STANDARD
TZOFFSETFROM:+0200
TZOFFSETTO:+0100
TZNAME:CET
DTSTART:20251026T010000
END:STANDARD
END:VTIMEZONE
BEGIN:VEVENT
DTSTART;TZID=Europe/Stockholm:20240228T110000
DTEND;TZID=Europe/Stockholm:20240228T150000
DTSTAMP:20260422T125646
CREATED:20240202T091445Z
LAST-MODIFIED:20240202T091445Z
UID:3333-1709118000-1709132400@vaxjo.vansterpartiet.se
SUMMARY:Öppet på Bäckgatan
DESCRIPTION:Välkommen till vår fina lokal för fika och intressanta samtal.
URL:https://vaxjo.vansterpartiet.se/kalender/oppet-pa-backgatan-6/
LOCATION:Bäckgatan 14\, Bäckgatan 14\, Växjö\, 352 41\, Sverige
END:VEVENT
BEGIN:VEVENT
DTSTART;TZID=Europe/Stockholm:20240228T163000
DTEND;TZID=Europe/Stockholm:20240228T163000
DTSTAMP:20260422T125646
CREATED:20240219T203340Z
LAST-MODIFIED:20240219T203340Z
UID:3341-1709137800-1709137800@vaxjo.vansterpartiet.se
SUMMARY:After Work på Bäckgatan 14
DESCRIPTION:Tag chansen att se och höra Aron Etzler -Vänsterpartiets partisekreterare – som talar om hur vi skall ta tillbaka kontrollen över välfärden. \nVarmt välkommna!
URL:https://vaxjo.vansterpartiet.se/kalender/after-work-pa-backgatan-14/
LOCATION:Bäckgatan 14\, Bäckgatan 14\, Växjö\, 352 41\, Sverige
END:VEVENT
END:VCALENDAR