BEGIN:VCALENDAR
VERSION:2.0
PRODID:-//Vänsterpartiet Växjö - ECPv6.15.17.1//NONSGML v1.0//EN
CALSCALE:GREGORIAN
METHOD:PUBLISH
X-ORIGINAL-URL:https://vaxjo.vansterpartiet.se
X-WR-CALDESC:Händelser för Vänsterpartiet Växjö
REFRESH-INTERVAL;VALUE=DURATION:PT1H
X-Robots-Tag:noindex
X-PUBLISHED-TTL:PT1H
BEGIN:VTIMEZONE
TZID:Europe/Stockholm
BEGIN:DAYLIGHT
TZOFFSETFROM:+0100
TZOFFSETTO:+0200
TZNAME:CEST
DTSTART:20230326T010000
END:DAYLIGHT
BEGIN:STANDARD
TZOFFSETFROM:+0200
TZOFFSETTO:+0100
TZNAME:CET
DTSTART:20231029T010000
END:STANDARD
BEGIN:DAYLIGHT
TZOFFSETFROM:+0100
TZOFFSETTO:+0200
TZNAME:CEST
DTSTART:20240331T010000
END:DAYLIGHT
BEGIN:STANDARD
TZOFFSETFROM:+0200
TZOFFSETTO:+0100
TZNAME:CET
DTSTART:20241027T010000
END:STANDARD
BEGIN:DAYLIGHT
TZOFFSETFROM:+0100
TZOFFSETTO:+0200
TZNAME:CEST
DTSTART:20250330T010000
END:DAYLIGHT
BEGIN:STANDARD
TZOFFSETFROM:+0200
TZOFFSETTO:+0100
TZNAME:CET
DTSTART:20251026T010000
END:STANDARD
END:VTIMEZONE
BEGIN:VEVENT
DTSTART;TZID=Europe/Stockholm:20240127T093000
DTEND;TZID=Europe/Stockholm:20240127T160000
DTSTAMP:20260422T135533
CREATED:20240118T084913Z
LAST-MODIFIED:20240118T084913Z
UID:3309-1706347800-1706371200@vaxjo.vansterpartiet.se
SUMMARY:Distriktårskonferens
DESCRIPTION:Vänsterpartiets distriktårskonferens 2024 i Hovmantorp Folkets hus. \nInformation kontakta: pernilla.ramstrom@vaxjo.se
URL:https://vaxjo.vansterpartiet.se/kalender/distriktarskonferens/
LOCATION:Hovmantorp Folkets hus\, Parkgatan 1\, Hovmantorp\, 360 51\, Sverige
ORGANIZER;CN="V%C3%A4nsterpartiet Kronoberg":MAILTO:kronoberg@vansterpartiet.se
END:VEVENT
BEGIN:VEVENT
DTSTART;TZID=Europe/Stockholm:20240127T110000
DTEND;TZID=Europe/Stockholm:20240127T130000
DTSTAMP:20260422T135533
CREATED:20240105T050641Z
LAST-MODIFIED:20240105T050641Z
UID:3297-1706353200-1706360400@vaxjo.vansterpartiet.se
SUMMARY:Öppet på Bäckgatan 14
DESCRIPTION:Välkomna in på en fika och trevlig samvaro.
URL:https://vaxjo.vansterpartiet.se/kalender/oppet-pa-backgatan-14-39/
LOCATION:Bäckgatan 14\, Bäckgatan 14\, Växjö\, 352 41\, Sverige
END:VEVENT
BEGIN:VEVENT
DTSTART;TZID=Europe/Stockholm:20240127T180000
DTEND;TZID=Europe/Stockholm:20240127T210000
DTSTAMP:20260422T135533
CREATED:20240118T085341Z
LAST-MODIFIED:20240118T085400Z
UID:3311-1706378400-1706389200@vaxjo.vansterpartiet.se
SUMMARY:Kulturnatten i Växjö
DESCRIPTION:På kulturnatten har vi öppet på Bäckgatan från kl:18:00 till ca 21:00. Misfit Maniacs spelar\, och Bartender Björn skakar alkoholfria drinkar. \nVarmt välkomna.
URL:https://vaxjo.vansterpartiet.se/kalender/kulturnatten-i-vaxjo/
LOCATION:Bäckgatan 14\, Bäckgatan 14\, Växjö\, 352 41\, Sverige
END:VEVENT
END:VCALENDAR