BEGIN:VCALENDAR
VERSION:2.0
PRODID:-//Vänsterpartiet Växjö - ECPv6.15.17.1//NONSGML v1.0//EN
CALSCALE:GREGORIAN
METHOD:PUBLISH
X-WR-CALNAME:Vänsterpartiet Växjö
X-ORIGINAL-URL:https://vaxjo.vansterpartiet.se
X-WR-CALDESC:Händelser för Vänsterpartiet Växjö
REFRESH-INTERVAL;VALUE=DURATION:PT1H
X-Robots-Tag:noindex
X-PUBLISHED-TTL:PT1H
BEGIN:VTIMEZONE
TZID:Europe/Stockholm
BEGIN:DAYLIGHT
TZOFFSETFROM:+0100
TZOFFSETTO:+0200
TZNAME:CEST
DTSTART:20220327T010000
END:DAYLIGHT
BEGIN:STANDARD
TZOFFSETFROM:+0200
TZOFFSETTO:+0100
TZNAME:CET
DTSTART:20221030T010000
END:STANDARD
BEGIN:DAYLIGHT
TZOFFSETFROM:+0100
TZOFFSETTO:+0200
TZNAME:CEST
DTSTART:20230326T010000
END:DAYLIGHT
BEGIN:STANDARD
TZOFFSETFROM:+0200
TZOFFSETTO:+0100
TZNAME:CET
DTSTART:20231029T010000
END:STANDARD
BEGIN:DAYLIGHT
TZOFFSETFROM:+0100
TZOFFSETTO:+0200
TZNAME:CEST
DTSTART:20240331T010000
END:DAYLIGHT
BEGIN:STANDARD
TZOFFSETFROM:+0200
TZOFFSETTO:+0100
TZNAME:CET
DTSTART:20241027T010000
END:STANDARD
END:VTIMEZONE
BEGIN:VEVENT
DTSTART;TZID=Europe/Stockholm:20231211T170000
DTEND;TZID=Europe/Stockholm:20231211T173000
DTSTAMP:20260422T150607
CREATED:20231121T173931Z
LAST-MODIFIED:20231121T173931Z
UID:3225-1702314000-1702315800@vaxjo.vansterpartiet.se
SUMMARY:Möte Kommunala gruppen
DESCRIPTION:Digitalt KG med fyllnadsval till NAV samt UN. \nKontakta Björn om länk till mötet.
URL:https://vaxjo.vansterpartiet.se/kalender/mote-kommunala-gruppen-3/
LOCATION:Digitalt möte\, Anmäl dig till mötet genom att skicka ett mail till bjorn.kleinhenz@vaxjo.se
ORGANIZER;CN="Kommunala gruppen":MAILTO:bjorn.kleinhenz@vaxjo.se
END:VEVENT
BEGIN:VEVENT
DTSTART;TZID=Europe/Stockholm:20231211T180000
DTEND;TZID=Europe/Stockholm:20231211T210000
DTSTAMP:20260422T150607
CREATED:20231121T173502Z
LAST-MODIFIED:20231121T173502Z
UID:3223-1702317600-1702328400@vaxjo.vansterpartiet.se
SUMMARY:Medlemsmöte
DESCRIPTION:Välkomna till medlemsmöte för att välja ombud till Distriktårskonferansen 240127 i Hovmantorp. \nFöreningen bjuder på glögg och pepparkakor.
URL:https://vaxjo.vansterpartiet.se/kalender/medlemsmote-2/
LOCATION:Bäckgatan 14\, Bäckgatan 14\, Växjö\, 352 41\, Sverige
ORGANIZER;CN="V%C3%A4nsterpartiet V%C3%A4xj%C3%B6":MAILTO:vaxjo@vansterpartiet.se
END:VEVENT
END:VCALENDAR