BEGIN:VCALENDAR
VERSION:2.0
PRODID:-//Vänsterpartiet Växjö - ECPv6.15.17.1//NONSGML v1.0//EN
CALSCALE:GREGORIAN
METHOD:PUBLISH
X-ORIGINAL-URL:https://vaxjo.vansterpartiet.se
X-WR-CALDESC:Händelser för Vänsterpartiet Växjö
REFRESH-INTERVAL;VALUE=DURATION:PT1H
X-Robots-Tag:noindex
X-PUBLISHED-TTL:PT1H
BEGIN:VTIMEZONE
TZID:Europe/Stockholm
BEGIN:DAYLIGHT
TZOFFSETFROM:+0100
TZOFFSETTO:+0200
TZNAME:CEST
DTSTART:20220327T010000
END:DAYLIGHT
BEGIN:STANDARD
TZOFFSETFROM:+0200
TZOFFSETTO:+0100
TZNAME:CET
DTSTART:20221030T010000
END:STANDARD
BEGIN:DAYLIGHT
TZOFFSETFROM:+0100
TZOFFSETTO:+0200
TZNAME:CEST
DTSTART:20230326T010000
END:DAYLIGHT
BEGIN:STANDARD
TZOFFSETFROM:+0200
TZOFFSETTO:+0100
TZNAME:CET
DTSTART:20231029T010000
END:STANDARD
BEGIN:DAYLIGHT
TZOFFSETFROM:+0100
TZOFFSETTO:+0200
TZNAME:CEST
DTSTART:20240331T010000
END:DAYLIGHT
BEGIN:STANDARD
TZOFFSETFROM:+0200
TZOFFSETTO:+0100
TZNAME:CET
DTSTART:20241027T010000
END:STANDARD
END:VTIMEZONE
BEGIN:VEVENT
DTSTART;TZID=Europe/Stockholm:20231206T110000
DTEND;TZID=Europe/Stockholm:20231206T150000
DTSTAMP:20260422T150705
CREATED:20231129T195512Z
LAST-MODIFIED:20231129T195512Z
UID:3237-1701860400-1701874800@vaxjo.vansterpartiet.se
SUMMARY:Öppet på Bäckgatan 14
DESCRIPTION:Öppet för fika\, samtal och trevlig samvaro. \nVälkomna!
URL:https://vaxjo.vansterpartiet.se/kalender/oppet-pa-backgatan-14-28/
LOCATION:Bäckgatan 14\, Bäckgatan 14\, Växjö\, 352 41\, Sverige
END:VEVENT
BEGIN:VEVENT
DTSTART;TZID=Europe/Stockholm:20231206T180000
DTEND;TZID=Europe/Stockholm:20231206T210000
DTSTAMP:20260422T150705
CREATED:20231129T193954Z
LAST-MODIFIED:20231129T193954Z
UID:3232-1701885600-1701896400@vaxjo.vansterpartiet.se
SUMMARY:Samling för fred och eldupphör i Gaza
DESCRIPTION:Vi samlas på Bäckgatan 14 för stilla manifestation med fokus på fred och eldupphör. \nDet bjuds på kaffe och tilltugg.
URL:https://vaxjo.vansterpartiet.se/kalender/samling-for-fred-och-eldupphor-i-gaza/
LOCATION:Bäckgatan 14\, Bäckgatan 14\, Växjö\, 352 41\, Sverige
END:VEVENT
END:VCALENDAR